BEGIN:VCALENDAR
VERSION:2.0
PRODID:-//LiRN - ECPv6.15.20//NONSGML v1.0//EN
CALSCALE:GREGORIAN
METHOD:PUBLISH
X-WR-CALNAME:LiRN
X-ORIGINAL-URL:https://lirn.ca
X-WR-CALDESC:Events for LiRN
REFRESH-INTERVAL;VALUE=DURATION:PT1H
X-Robots-Tag:noindex
X-PUBLISHED-TTL:PT1H
BEGIN:VTIMEZONE
TZID:America/Toronto
BEGIN:DAYLIGHT
TZOFFSETFROM:-0500
TZOFFSETTO:-0400
TZNAME:EDT
DTSTART:20240310T070000
END:DAYLIGHT
BEGIN:STANDARD
TZOFFSETFROM:-0400
TZOFFSETTO:-0500
TZNAME:EST
DTSTART:20241103T060000
END:STANDARD
BEGIN:DAYLIGHT
TZOFFSETFROM:-0500
TZOFFSETTO:-0400
TZNAME:EDT
DTSTART:20250309T070000
END:DAYLIGHT
BEGIN:STANDARD
TZOFFSETFROM:-0400
TZOFFSETTO:-0500
TZNAME:EST
DTSTART:20251102T060000
END:STANDARD
BEGIN:DAYLIGHT
TZOFFSETFROM:-0500
TZOFFSETTO:-0400
TZNAME:EDT
DTSTART:20260308T070000
END:DAYLIGHT
BEGIN:STANDARD
TZOFFSETFROM:-0400
TZOFFSETTO:-0500
TZNAME:EST
DTSTART:20261101T060000
END:STANDARD
END:VTIMEZONE
BEGIN:VEVENT
DTSTART;VALUE=DATE:20250901
DTEND;VALUE=DATE:20250902
DTSTAMP:20260422T114341
CREATED:20250108T145009Z
LAST-MODIFIED:20250108T145009Z
UID:7685-1756684800-1756771199@lirn.ca
SUMMARY:Labour Day - LiRN Office Closed
DESCRIPTION:
URL:https://lirn.ca/event/labour-day-lirn-office-closed/
END:VEVENT
BEGIN:VEVENT
DTSTART;TZID=America/Toronto:20250903T110000
DTEND;TZID=America/Toronto:20250903T120000
DTSTAMP:20260422T114341
CREATED:20250520T123617Z
LAST-MODIFIED:20250520T123617Z
UID:8949-1756897200-1756900800@lirn.ca
SUMMARY:New Statistics Form Training/Review
DESCRIPTION:You’ve used the form over the summer – and now is the opportunity to give your feedback. This meeting is by invitation only\, so if you did not receive yours\, email admin@lirn.ca. \nThis event will be recorded.
URL:https://lirn.ca/event/new-statistics-form-training-review/
LOCATION:Online Only
CATEGORIES:Stats
ORGANIZER;CN="LiRN":MAILTO:admin@lirn.ca
END:VEVENT
BEGIN:VEVENT
DTSTART;TZID=America/Toronto:20250904T130000
DTEND;TZID=America/Toronto:20250904T133000
DTSTAMP:20260422T114341
CREATED:20250618T165511Z
LAST-MODIFIED:20250618T165943Z
UID:9104-1756990800-1756992600@lirn.ca
SUMMARY:Noting up on Westlaw
DESCRIPTION:Join us for a dynamic 30-minute Westlaw Canada webinar\, where we’ll dive deep into mastering the art of Noting Up case law and legislation. Ensure your legal foundations are solid with the most authoritative sources.\nCPD Hours: 30 m Professionalism \nThursday\, September 4\, 2025\, 1:00 to 1:30 pm (Online)
URL:https://lirn.ca/event/noting-up-on-westlaw/
LOCATION:Online Only
CATEGORIES:External Event
END:VEVENT
BEGIN:VEVENT
DTSTART;TZID=America/Toronto:20250916T110000
DTEND;TZID=America/Toronto:20250916T120000
DTSTAMP:20260422T114341
CREATED:20250129T165957Z
LAST-MODIFIED:20250916T173555Z
UID:7974-1758020400-1758024000@lirn.ca
SUMMARY:LwL - PD Learnings Roundtable
DESCRIPTION:Session information available on the wiki at PD Learnings Roundtable 2025 – LiRN\, featuring learnings about: \n\nAALL\nBIALL\nCALL\nCertificate of Law from Queen’s University\nLegal Terminology course\n\nFor those new to the network\, please review LiRN’s Professional Development Memo.  We do ask that people share their learnings after a conference with the network at the annual PD Learnings Roundtable. \n 
URL:https://lirn.ca/event/pd-learnings-roundtable-2/
LOCATION:Online Only
CATEGORIES:LwL
ORGANIZER;CN="LiRN":MAILTO:admin@lirn.ca
END:VEVENT
BEGIN:VEVENT
DTSTART;TZID=America/Toronto:20250918T120000
DTEND;TZID=America/Toronto:20250918T123000
DTSTAMP:20260422T114341
CREATED:20250521T200037Z
LAST-MODIFIED:20250521T200037Z
UID:8965-1758196800-1758198600@lirn.ca
SUMMARY:Lexis+ Training
DESCRIPTION:This information session is customized for courthouse library staff and lawyers. Note that the session is Accredited for 30min Professionalism. \nThe session will be offered on seven dates and times as listed below along with the link. The same information is provided at each session. No need to register\, just join in on the best date for you. \n\nSeptember 18 at 12PM: https://relx.zoom.us/j/91943300479
URL:https://lirn.ca/event/lexis-training-10/
LOCATION:Online Only
CATEGORIES:External Event
END:VEVENT
BEGIN:VEVENT
DTSTART;TZID=America/Toronto:20250918T130000
DTEND;TZID=America/Toronto:20250918T133000
DTSTAMP:20260422T114341
CREATED:20250618T165358Z
LAST-MODIFIED:20250618T165358Z
UID:9102-1758200400-1758202200@lirn.ca
SUMMARY:Westlaw FamilySource Tips
DESCRIPTION:Explore the tools you need to efficiently handle any family law matter.  During this session we’ll explore…\n• Receiving the latest insights with Franks & Zalev’s This Week in Family Law newsletter.\n• Comprehensive access to a trusted library of essential family law commentary.\n• Effective\, time-saving techniques to quickly find relevant cases and legislation.\nCPD Hours: 30 m Professionalism \nThursday\, September 18\, 1:00 pm to 1:30 pm (Online)
URL:https://lirn.ca/event/westlaw-familysource-tips/
LOCATION:Online Only
CATEGORIES:External Event
END:VEVENT
BEGIN:VEVENT
DTSTART;VALUE=DATE:20250924
DTEND;VALUE=DATE:20250925
DTSTAMP:20260422T114341
CREATED:20250924T170022Z
LAST-MODIFIED:20250924T170056Z
UID:9699-1758672000-1758758399@lirn.ca
SUMMARY:Site Visit - Dufferin Law Association
DESCRIPTION:
URL:https://lirn.ca/event/site-visit-dufferin-law-association-2/
CATEGORIES:Site Visits
END:VEVENT
BEGIN:VEVENT
DTSTART;VALUE=DATE:20250929
DTEND;VALUE=DATE:20250930
DTSTAMP:20260422T114341
CREATED:20250929T155105Z
LAST-MODIFIED:20250929T163505Z
UID:9727-1759104000-1759190399@lirn.ca
SUMMARY:Site Visit: Hamilton Law Association
DESCRIPTION:
URL:https://lirn.ca/event/site-visit-hamilton-law-association-2/
CATEGORIES:Site Visits
ORGANIZER;CN="LiRN":MAILTO:admin@lirn.ca
END:VEVENT
BEGIN:VEVENT
DTSTART;VALUE=DATE:20250930
DTEND;VALUE=DATE:20251001
DTSTAMP:20260422T114341
CREATED:20250108T145206Z
LAST-MODIFIED:20250108T145206Z
UID:7687-1759190400-1759276799@lirn.ca
SUMMARY:National Day for Truth and Reconciliation - LiRN Office Closed
DESCRIPTION:
URL:https://lirn.ca/event/national-day-for-truth-and-reconciliation-lirn-office-closed/
END:VEVENT
END:VCALENDAR