BEGIN:VCALENDAR
VERSION:2.0
PRODID:-//LiRN - ECPv6.15.20//NONSGML v1.0//EN
CALSCALE:GREGORIAN
METHOD:PUBLISH
X-ORIGINAL-URL:https://lirn.ca
X-WR-CALDESC:Events for LiRN
REFRESH-INTERVAL;VALUE=DURATION:PT1H
X-Robots-Tag:noindex
X-PUBLISHED-TTL:PT1H
BEGIN:VTIMEZONE
TZID:America/Toronto
BEGIN:DAYLIGHT
TZOFFSETFROM:-0500
TZOFFSETTO:-0400
TZNAME:EDT
DTSTART:20240310T070000
END:DAYLIGHT
BEGIN:STANDARD
TZOFFSETFROM:-0400
TZOFFSETTO:-0500
TZNAME:EST
DTSTART:20241103T060000
END:STANDARD
BEGIN:DAYLIGHT
TZOFFSETFROM:-0500
TZOFFSETTO:-0400
TZNAME:EDT
DTSTART:20250309T070000
END:DAYLIGHT
BEGIN:STANDARD
TZOFFSETFROM:-0400
TZOFFSETTO:-0500
TZNAME:EST
DTSTART:20251102T060000
END:STANDARD
BEGIN:DAYLIGHT
TZOFFSETFROM:-0500
TZOFFSETTO:-0400
TZNAME:EDT
DTSTART:20260308T070000
END:DAYLIGHT
BEGIN:STANDARD
TZOFFSETFROM:-0400
TZOFFSETTO:-0500
TZNAME:EST
DTSTART:20261101T060000
END:STANDARD
END:VTIMEZONE
BEGIN:VEVENT
DTSTART;TZID=America/Toronto:20250612T130000
DTEND;TZID=America/Toronto:20250612T133000
DTSTAMP:20260423T043325
CREATED:20250310T135054Z
LAST-MODIFIED:20250310T135054Z
UID:8393-1749733200-1749735000@lirn.ca
SUMMARY:FamilySource on Westlaw Training
DESCRIPTION:Free CPD Training: Earn LSO-Accredited Professionalism Hours! \nEnhance your family law practice with key resources and strategies with FamilySource on Westlaw Canada. This session will delve into: \n• Comprehensive access to a trusted library of essential family law textbooks. \n• Receiving the latest insights with Franks & Zalev’s This Week in Family Law newsletter. \n• Effective\, time-saving techniques to quickly find relevant cases and legislation. \nJoin us to refine your expertise and stay ahead in family law! \nRegister at: Microsoft Virtual Events Powered by Teams
URL:https://lirn.ca/event/familysource-on-westlaw-training-2/
LOCATION:Online Only
CATEGORIES:External Event
END:VEVENT
BEGIN:VEVENT
DTSTART;VALUE=DATE:20250613
DTEND;VALUE=DATE:20250615
DTSTAMP:20260423T043325
CREATED:20250203T212927Z
LAST-MODIFIED:20250224T182545Z
UID:8056-1749772800-1749945599@lirn.ca
SUMMARY:LiRN Board Retreat and Annual General Meeting
DESCRIPTION:
URL:https://lirn.ca/event/lirn-board-retreat-and-annual-general-meeting/
LOCATION:Osgoode Hall\, Toronto
CATEGORIES:Board/Committee Meetings
ORGANIZER;CN="LiRN":MAILTO:admin@lirn.ca
END:VEVENT
BEGIN:VEVENT
DTSTART;TZID=America/Toronto:20250617T110000
DTEND;TZID=America/Toronto:20250617T113000
DTSTAMP:20260423T043325
CREATED:20250521T195639Z
LAST-MODIFIED:20250521T195639Z
UID:8954-1750158000-1750159800@lirn.ca
SUMMARY:Lexis+ Training
DESCRIPTION:This information session is customized for courthouse library staff and lawyers. Note that the session is Accredited for 30min Professionalism. \nThe session will be offered on seven dates and times as listed below along with the link. The same information is provided at each session. No need to register\, just join in on the best date for you. \n\nMay 5 at 12PM: https://relx.zoom.us/j/98014015874\nJune 17 at 11AM: https://relx.zoom.us/j/93916263727\nJuly 10 at 12PM: https://relx.zoom.us/j/98520551358\nAugust 25 at 11AM: https://relx.zoom.us/j/99518635219\nSeptember 18 at 12PM: https://relx.zoom.us/j/91943300479
URL:https://lirn.ca/event/lexis-training-7/
LOCATION:Online Only
CATEGORIES:External Event
END:VEVENT
BEGIN:VEVENT
DTSTART;TZID=America/Toronto:20250617T110000
DTEND;TZID=America/Toronto:20250617T120000
DTSTAMP:20260423T043325
CREATED:20250513T191338Z
LAST-MODIFIED:20250520T123706Z
UID:8922-1750158000-1750161600@lirn.ca
SUMMARY:New Statistics Form Training
DESCRIPTION:Invitation via Outlook has been sent to Library Staff. If you did not receive yours\, email admin@lirn.ca. \nThis event will be recorded.
URL:https://lirn.ca/event/new-statistics-form-training/
CATEGORIES:LwL
ORGANIZER;CN="LiRN":MAILTO:admin@lirn.ca
END:VEVENT
BEGIN:VEVENT
DTSTART;TZID=America/Toronto:20250619T090000
DTEND;TZID=America/Toronto:20250619T163000
DTSTAMP:20260423T043325
CREATED:20250113T190249Z
LAST-MODIFIED:20250113T190350Z
UID:7789-1750323600-1750350600@lirn.ca
SUMMARY:19th Solo and Small Firm Conference: The How-To Toolkit
DESCRIPTION:Join us for an engaging and dynamic conference with topics specifically designed for solo and small firm lawyers and paralegals. Our experienced presenters address the unique opportunities (and challenges) of a legal landscape that is always changing.\nCPD Hours: TBA \nThursday\, June 19\, 2025\, 9:00 am to 4:30 pm (In-Person and Online)
URL:https://lirn.ca/event/19th-solo-and-small-firm-conference-the-how-to-toolkit/
CATEGORIES:External Event,LSO CPD
END:VEVENT
BEGIN:VEVENT
DTSTART;VALUE=DATE:20250623
DTEND;VALUE=DATE:20250624
DTSTAMP:20260423T043325
CREATED:20250626T192742Z
LAST-MODIFIED:20250626T192928Z
UID:9172-1750636800-1750723199@lirn.ca
SUMMARY:Site Visit - Kenora Law Association
DESCRIPTION:
URL:https://lirn.ca/event/site-visit-kenora-law-association/
CATEGORIES:Site Visits
ORGANIZER;CN="LiRN":MAILTO:admin@lirn.ca
END:VEVENT
BEGIN:VEVENT
DTSTART;VALUE=DATE:20250624
DTEND;VALUE=DATE:20250625
DTSTAMP:20260423T043325
CREATED:20250626T192822Z
LAST-MODIFIED:20250626T192957Z
UID:9174-1750723200-1750809599@lirn.ca
SUMMARY:Site Visit - Rainy River Law Association
DESCRIPTION:
URL:https://lirn.ca/event/site-visit-rainy-river-law-association/
CATEGORIES:Site Visits
ORGANIZER;CN="LiRN":MAILTO:admin@lirn.ca
END:VEVENT
BEGIN:VEVENT
DTSTART;VALUE=DATE:20250626
DTEND;VALUE=DATE:20250627
DTSTAMP:20260423T043325
CREATED:20250626T193035Z
LAST-MODIFIED:20250626T193035Z
UID:9176-1750896000-1750982399@lirn.ca
SUMMARY:Site Visit - Thunder Bay Law Association
DESCRIPTION:
URL:https://lirn.ca/event/site-visit-thunder-bay-law-association/
CATEGORIES:Site Visits
ORGANIZER;CN="LiRN":MAILTO:admin@lirn.ca
END:VEVENT
BEGIN:VEVENT
DTSTART;VALUE=DATE:20250630
DTEND;VALUE=DATE:20250701
DTSTAMP:20260423T043325
CREATED:20250715T124352Z
LAST-MODIFIED:20250715T124619Z
UID:9224-1751241600-1751327999@lirn.ca
SUMMARY:Grant Requests Due
DESCRIPTION:Read more at: Financial Information for Associations – LiRN
URL:https://lirn.ca/event/grant-requests-due/
CATEGORIES:Budget - Due Date
ORGANIZER;CN="LiRN":MAILTO:admin@lirn.ca
END:VEVENT
END:VCALENDAR