BEGIN:VCALENDAR
VERSION:2.0
PRODID:-//LiRN - ECPv6.15.20//NONSGML v1.0//EN
CALSCALE:GREGORIAN
METHOD:PUBLISH
X-WR-CALNAME:LiRN
X-ORIGINAL-URL:https://lirn.ca
X-WR-CALDESC:Events for LiRN
REFRESH-INTERVAL;VALUE=DURATION:PT1H
X-Robots-Tag:noindex
X-PUBLISHED-TTL:PT1H
BEGIN:VTIMEZONE
TZID:America/Toronto
BEGIN:DAYLIGHT
TZOFFSETFROM:-0500
TZOFFSETTO:-0400
TZNAME:EDT
DTSTART:20240310T070000
END:DAYLIGHT
BEGIN:STANDARD
TZOFFSETFROM:-0400
TZOFFSETTO:-0500
TZNAME:EST
DTSTART:20241103T060000
END:STANDARD
BEGIN:DAYLIGHT
TZOFFSETFROM:-0500
TZOFFSETTO:-0400
TZNAME:EDT
DTSTART:20250309T070000
END:DAYLIGHT
BEGIN:STANDARD
TZOFFSETFROM:-0400
TZOFFSETTO:-0500
TZNAME:EST
DTSTART:20251102T060000
END:STANDARD
BEGIN:DAYLIGHT
TZOFFSETFROM:-0500
TZOFFSETTO:-0400
TZNAME:EDT
DTSTART:20260308T070000
END:DAYLIGHT
BEGIN:STANDARD
TZOFFSETFROM:-0400
TZOFFSETTO:-0500
TZNAME:EST
DTSTART:20261101T060000
END:STANDARD
END:VTIMEZONE
BEGIN:VEVENT
DTSTART;VALUE=DATE:20250402
DTEND;VALUE=DATE:20250403
DTSTAMP:20260423T181416
CREATED:20250225T185259Z
LAST-MODIFIED:20250225T185259Z
UID:8289-1743552000-1743638399@lirn.ca
SUMMARY:2025 Q2 Grant Payment
DESCRIPTION:
URL:https://lirn.ca/event/2025-q2-grant-payment/
CATEGORIES:Grant
ORGANIZER;CN="LiRN":MAILTO:admin@lirn.ca
END:VEVENT
BEGIN:VEVENT
DTSTART;TZID=America/Toronto:20250402T130000
DTEND;TZID=America/Toronto:20250402T133000
DTSTAMP:20260423T181416
CREATED:20250310T123439Z
LAST-MODIFIED:20250310T123439Z
UID:8387-1743598800-1743600600@lirn.ca
SUMMARY:CriminalSource on Westlaw
DESCRIPTION:Free CPD Training: Earn LSO-Accredited Professionalism Hours! \nUnlock vital criminal practice insights with CriminalSource on Westlaw Canada. This training session will cover: \n• In-depth expert commentary\, including Criminal Pleadings & Practice in Canada by Ewaschuk\, among others. \n• Up-to-the-minute newsletters to keep you informed on crucial criminal law updates. \n• Detailed Criminal Code Annotations from Martin’s\, Tremeer’s\, and Crankshaw’s. \n• Tools to swiftly navigate sentencing options. \n• Efficient strategies to access critical cases and legislation quickly. \nDon’t miss out – elevate your legal expertise! \nRegister at: Microsoft Virtual Events Powered by Teams
URL:https://lirn.ca/event/criminalsource-on-westlaw/
LOCATION:Online Only
CATEGORIES:External Event
END:VEVENT
BEGIN:VEVENT
DTSTART;VALUE=DATE:20250415
DTEND;VALUE=DATE:20250416
DTSTAMP:20260423T181416
CREATED:20250507T161117Z
LAST-MODIFIED:20250507T161354Z
UID:8878-1744675200-1744761599@lirn.ca
SUMMARY:2025 Q1 Statistics Report Due
DESCRIPTION:More information at: Library Statistics Reporting Requirements – LiRN
URL:https://lirn.ca/event/2025-q1-statistics-report-due/
CATEGORIES:Stats
END:VEVENT
BEGIN:VEVENT
DTSTART;TZID=America/Toronto:20250415T110000
DTEND;TZID=America/Toronto:20250415T120000
DTSTAMP:20260423T181416
CREATED:20250129T164741Z
LAST-MODIFIED:20250327T171738Z
UID:7967-1744714800-1744718400@lirn.ca
SUMMARY:Effective Communication @ work
DESCRIPTION:This seminar will address key communication elements such as active listening and show participants how to present messages in a way that is more compatible with the receiver’s style.  \nRegister at: https://join-health-meet.zoom.us/meeting/register/gO_dlv1KTOOq9oAKu6lYiA \n 
URL:https://lirn.ca/event/effective-communication-work/
LOCATION:Online Only
CATEGORIES:LwL
END:VEVENT
BEGIN:VEVENT
DTSTART;TZID=America/Toronto:20250416T103000
DTEND;TZID=America/Toronto:20250416T113000
DTSTAMP:20260423T181416
CREATED:20250226T135949Z
LAST-MODIFIED:20250226T135949Z
UID:8338-1744799400-1744803000@lirn.ca
SUMMARY:Lexis+ Training
DESCRIPTION:This information session is customized for courthouse library staff and lawyers. Note that the session is Accredited for Professionalism Hours (number of hours to be determined). \nThe session will be offered on seven dates and times as listed below along with the link. The same information is provided at each session. \nFebruary 5 at 11:00 am: https://relx.zoom.us/j/94892132407 \nFebruary 14 at 11:00 am: https://relx.zoom.us/j/97687583479 \nFebruary 19 at 1:00 am: https://relx.zoom.us/j/99240859319 \nMarch 6 at 12:30 pm: https://relx.zoom.us/j/96159276882 \nMarch 11 at 3PM: https://relx.zoom.us/j/99743126537 \nApril 16 at 10:30AM: https://relx.zoom.us/j/99432325398 \nMay 5 at 12PM: https://relx.zoom.us/j/98014015874
URL:https://lirn.ca/event/lexis-training-5/
LOCATION:Online Only
CATEGORIES:External Event
END:VEVENT
BEGIN:VEVENT
DTSTART;TZID=America/Toronto:20250416T130000
DTEND;TZID=America/Toronto:20250416T143000
DTSTAMP:20260423T181416
CREATED:20250203T211815Z
LAST-MODIFIED:20250203T211815Z
UID:8046-1744808400-1744813800@lirn.ca
SUMMARY:Governance Committee Meeting
DESCRIPTION:
URL:https://lirn.ca/event/governance-committee-meeting-3/
LOCATION:Online Only
CATEGORIES:Board/Committee Meetings
ORGANIZER;CN="LiRN":MAILTO:admin@lirn.ca
END:VEVENT
BEGIN:VEVENT
DTSTART;TZID=America/Toronto:20250416T153000
DTEND;TZID=America/Toronto:20250416T170000
DTSTAMP:20260423T181416
CREATED:20250203T211650Z
LAST-MODIFIED:20250211T171326Z
UID:8044-1744817400-1744822800@lirn.ca
SUMMARY:Network Policy Committee Meeting
DESCRIPTION:
URL:https://lirn.ca/event/network-policy-committee-meeting-2/
LOCATION:Online Only
CATEGORIES:Board/Committee Meetings
ORGANIZER;CN="LiRN":MAILTO:admin@lirn.ca
END:VEVENT
BEGIN:VEVENT
DTSTART;VALUE=DATE:20250418
DTEND;VALUE=DATE:20250419
DTSTAMP:20260423T181416
CREATED:20250108T143959Z
LAST-MODIFIED:20250108T143959Z
UID:7677-1744934400-1745020799@lirn.ca
SUMMARY:Good Friday - LiRN Office Closed
DESCRIPTION:
URL:https://lirn.ca/event/good-friday-lirn-office-closed/
END:VEVENT
BEGIN:VEVENT
DTSTART;TZID=America/Toronto:20250421T130000
DTEND;TZID=America/Toronto:20250421T133000
DTSTAMP:20260423T181416
CREATED:20250310T123836Z
LAST-MODIFIED:20250310T123836Z
UID:8389-1745240400-1745242200@lirn.ca
SUMMARY:Mastering Westlaw Canada’s Essential Research Tools
DESCRIPTION:Discover how to efficiently navigate Westlaw Canada’s powerful finding tools\, including Browse Legal Topics\, Words & Phrases\, Legislative Concordances\, and hidden gems like Black’s Law Dictionary. Enhance your legal research skills and streamline your workflow with expert tips and practical demonstrations. \nRegister at: Microsoft Virtual Events Powered by Teams
URL:https://lirn.ca/event/mastering-westlaw-canadas-essential-research-tools/
LOCATION:Online Only
CATEGORIES:External Event
END:VEVENT
BEGIN:VEVENT
DTSTART;VALUE=DATE:20250428
DTEND;VALUE=DATE:20250429
DTSTAMP:20260423T181416
CREATED:20250109T134416Z
LAST-MODIFIED:20250109T134519Z
UID:7733-1745798400-1745884799@lirn.ca
SUMMARY:2025 Q1 Financial Reports Due
DESCRIPTION:More information at: Financial Information for Associations – LiRN
URL:https://lirn.ca/event/2025-q1-financial-reports-due/
CATEGORIES:Financial Report Due Dates
END:VEVENT
BEGIN:VEVENT
DTSTART;TZID=America/Toronto:20250428T120000
DTEND;TZID=America/Toronto:20250428T140000
DTSTAMP:20260423T181416
CREATED:20250203T211927Z
LAST-MODIFIED:20250422T160352Z
UID:8048-1745841600-1745848800@lirn.ca
SUMMARY:LiRN Board Meeting - Cancelled
DESCRIPTION:
URL:https://lirn.ca/event/lirn-board-meeting-4/
LOCATION:Online Only
CATEGORIES:Board/Committee Meetings
ORGANIZER;CN="LiRN":MAILTO:admin@lirn.ca
END:VEVENT
BEGIN:VEVENT
DTSTART;TZID=America/Toronto:20250429T110000
DTEND;TZID=America/Toronto:20250429T120000
DTSTAMP:20260423T181416
CREATED:20250313T153824Z
LAST-MODIFIED:20250313T153824Z
UID:8436-1745924400-1745928000@lirn.ca
SUMMARY:LiRN Update
DESCRIPTION:Via Zoom\, and by invitation. If you did not receive your calendar invite\, please email admin@lirn.ca. \n  \n 
URL:https://lirn.ca/event/lirn-update-2/
LOCATION:Online Only
CATEGORIES:LiRN Updates
ORGANIZER;CN="LiRN":MAILTO:admin@lirn.ca
END:VEVENT
END:VCALENDAR