BEGIN:VCALENDAR
VERSION:2.0
PRODID:-//LiRN - ECPv6.15.20//NONSGML v1.0//EN
CALSCALE:GREGORIAN
METHOD:PUBLISH
X-WR-CALNAME:LiRN
X-ORIGINAL-URL:https://lirn.ca
X-WR-CALDESC:Events for LiRN
REFRESH-INTERVAL;VALUE=DURATION:PT1H
X-Robots-Tag:noindex
X-PUBLISHED-TTL:PT1H
BEGIN:VTIMEZONE
TZID:America/Toronto
BEGIN:DAYLIGHT
TZOFFSETFROM:-0500
TZOFFSETTO:-0400
TZNAME:EDT
DTSTART:20230312T070000
END:DAYLIGHT
BEGIN:STANDARD
TZOFFSETFROM:-0400
TZOFFSETTO:-0500
TZNAME:EST
DTSTART:20231105T060000
END:STANDARD
BEGIN:DAYLIGHT
TZOFFSETFROM:-0500
TZOFFSETTO:-0400
TZNAME:EDT
DTSTART:20240310T070000
END:DAYLIGHT
BEGIN:STANDARD
TZOFFSETFROM:-0400
TZOFFSETTO:-0500
TZNAME:EST
DTSTART:20241103T060000
END:STANDARD
BEGIN:DAYLIGHT
TZOFFSETFROM:-0500
TZOFFSETTO:-0400
TZNAME:EDT
DTSTART:20250309T070000
END:DAYLIGHT
BEGIN:STANDARD
TZOFFSETFROM:-0400
TZOFFSETTO:-0500
TZNAME:EST
DTSTART:20251102T060000
END:STANDARD
BEGIN:DAYLIGHT
TZOFFSETFROM:-0500
TZOFFSETTO:-0400
TZNAME:EDT
DTSTART:20260308T070000
END:DAYLIGHT
BEGIN:STANDARD
TZOFFSETFROM:-0400
TZOFFSETTO:-0500
TZNAME:EST
DTSTART:20261101T060000
END:STANDARD
END:VTIMEZONE
BEGIN:VEVENT
DTSTART;TZID=America/Toronto:20250225T090000
DTEND;TZID=America/Toronto:20250225T163000
DTSTAMP:20260423T033051
CREATED:20250113T185813Z
LAST-MODIFIED:20250113T185813Z
UID:7785-1740474000-1740501000@lirn.ca
SUMMARY:15th In-House Counsel Summit
DESCRIPTION:In-house counsel are tasked with managing legal issues in a variety of practice areas. Our experienced speakers bring their knowledge and expertise to help you navigate and resolve these issues successfully. Topics such as the new “greenwashing regulations” in the Competition Act\, tips on the latest in technology\, and more.\nCPD Hours: 5 h 15 m Substantive\, 1 h Professionalism \nTuesday\, February 25\, 2025 9:00 pm – 4:15 pm (In-Person and Online)
URL:https://lirn.ca/event/15th-in-house-counsel-summit/
CATEGORIES:External Event,LSO CPD
END:VEVENT
BEGIN:VEVENT
DTSTART;TZID=America/Toronto:20250128T100000
DTEND;TZID=America/Toronto:20250128T103000
DTSTAMP:20260423T033051
CREATED:20250113T191149Z
LAST-MODIFIED:20250113T191149Z
UID:7791-1738058400-1738060200@lirn.ca
SUMMARY:15th vLex & Emond Publishing for LiRN In-House Counsel Summit
DESCRIPTION:This vLex training session will provide you with a platform overview and will teach you how to access content included in your subscription\, particularly focusing on the Emond Publishing content. Some key benefits you can gain from a vLex training session:\nAccelerated efficiency: Learn time-saving techniques and shortcuts to streamline your research process\, ensuring that you locate the most relevant and up-to-date legal information quickly.\nAdvanced Search Strategies: Discover advanced search techniques and tips that will enable you to conduct thorough and precise searches.\nMaster the Latest Enhancements: Given recent updates and enhancements to vLex\, our training session will ensure that you are up to speed with the latest features\, tools\, and resources available to you.\nUnparalleled Support: During the training session\, you’ll have the opportunity to ask questions\, seek clarifications\, and receive personalized guidance\, ensuring that you make the most of vLex’s features and resources.\nCPD Hours: 30 m Professionalism \nThree sessions (same content each time) are offered\, all online:\nTuesday\, January 28\, 10:00 am\nTuesday\, February 25\, 10:00 am\nTuesday\, March 25\, 10:00 am \nRegistration: Webinar Registration – Zoom
URL:https://lirn.ca/event/15th-vlex-emond-publishing-for-lirn-in-house-counsel-summit/
CATEGORIES:LSO CPD,LwL
END:VEVENT
BEGIN:VEVENT
DTSTART;TZID=America/Toronto:20250117T130000
DTEND;TZID=America/Toronto:20250117T133000
DTSTAMP:20260423T033051
CREATED:20241218T171233Z
LAST-MODIFIED:20241218T171822Z
UID:7662-1737118800-1737120600@lirn.ca
SUMMARY:CriminalSource Tips
DESCRIPTION:Description and Registration: Microsoft Virtual Events Powered by Teams \nCPD Hours: 30 m Professionalism
URL:https://lirn.ca/event/criminalsource-tips/
LOCATION:Online Only
CATEGORIES:External Event,LSO CPD
END:VEVENT
BEGIN:VEVENT
DTSTART;TZID=America/Toronto:20241210T123000
DTEND;TZID=America/Toronto:20241210T130000
DTSTAMP:20260423T033051
CREATED:20240822T154200Z
LAST-MODIFIED:20240822T163450Z
UID:6556-1733833800-1733835600@lirn.ca
SUMMARY:FamilySource on Westlaw Training
DESCRIPTION:Description: Explore the tools you need to efficiently handle any family law matter with Westlaw Canada. \nRegistration: Microsoft Virtual Events Powered by Teams \nCPD Hours: 30 m Professionalism
URL:https://lirn.ca/event/familysource-on-westlaw-training/
CATEGORIES:External Event,LSO CPD
END:VEVENT
BEGIN:VEVENT
DTSTART;TZID=America/Toronto:20241205T123000
DTEND;TZID=America/Toronto:20241205T130000
DTSTAMP:20260423T033051
CREATED:20240822T155140Z
LAST-MODIFIED:20240822T163338Z
UID:6559-1733401800-1733403600@lirn.ca
SUMMARY:Discover Hidden Gems in Westlaw Canada
DESCRIPTION:Description: Take your Westlaw Canada research to the next level with these unique features. \nRegistration: Microsoft Virtual Events Powered by Teams \nCPD Hours: 30 m Professionalism
URL:https://lirn.ca/event/discover-hidden-gems-in-westlaw-canada/
CATEGORIES:External Event,LSO CPD
END:VEVENT
BEGIN:VEVENT
DTSTART;TZID=America/Toronto:20241205T090000
DTEND;TZID=America/Toronto:20241205T160000
DTSTAMP:20260423T033051
CREATED:20241023T175240Z
LAST-MODIFIED:20241023T175305Z
UID:7286-1733389200-1733414400@lirn.ca
SUMMARY:LSO 13th Human Rights Summit
DESCRIPTION:Description: This annual summit is designed to keep legal professionals current with significant developments in human rights law. Whether you serve as in-house counsel\, a civil litigator\, or a paralegal\, our presenters offer legislative updates and insights into trends in case law that are crucial for you to know. This summit is a year-end update to enhance your practice knowledge \nRegistration: 13th Human Rights Summit | LSO Store \nCPD: 5 h Substantive; 30 m Professionalism; 30 m EDI Professionalism
URL:https://lirn.ca/event/lso-13th-human-rights-summit/
CATEGORIES:LSO CPD
END:VEVENT
BEGIN:VEVENT
DTSTART;TZID=America/Toronto:20241204T130000
DTEND;TZID=America/Toronto:20241204T133000
DTSTAMP:20260423T033051
CREATED:20240822T150006Z
LAST-MODIFIED:20240822T163248Z
UID:6546-1733317200-1733319000@lirn.ca
SUMMARY:Lexis Advance Quicklaw Training
DESCRIPTION:Description: Tips for finding cases and noting them up\, using the Quantums and accessing secondary materials. \nRegistration: Meeting Registration – Zoom \nCPD Hours: 30 m Professionalism \nAlso Offered: October 22\, 2024
URL:https://lirn.ca/event/lexis-advance-quicklaw-training-2/
CATEGORIES:External Event,LSO CPD
END:VEVENT
BEGIN:VEVENT
DTSTART;TZID=America/Toronto:20241203T100000
DTEND;TZID=America/Toronto:20241203T103000
DTSTAMP:20260423T033051
CREATED:20240830T133718Z
LAST-MODIFIED:20240830T134124Z
UID:6773-1733220000-1733221800@lirn.ca
SUMMARY:vLex Training
DESCRIPTION:Description: Webinar to review time-saving techniques\, advanced search strategies\, and mastering the latest enhancements. \nRegistration: Webinar Registration – Zoom \nCPD Hours: 30 m Professionalism \nAlso Offered: September 23\, October 17\, and November 12
URL:https://lirn.ca/event/vlex-training-4/
CATEGORIES:External Event,LSO CPD
END:VEVENT
BEGIN:VEVENT
DTSTART;TZID=America/Toronto:20241120T090000
DTEND;TZID=America/Toronto:20241121T163000
DTSTAMP:20260423T033051
CREATED:20241023T174753Z
LAST-MODIFIED:20241023T174940Z
UID:7284-1732093200-1732206600@lirn.ca
SUMMARY:LSO 32nd Immigration Law Summit
DESCRIPTION:Description: This summit brings together lawyers\, refugee advocates\, adjudicators\, and government officials to discuss the latest legal developments\, ethical issues\, and government program changes in immigration and refugee law. With both in-person and remote attendance options available once again\, this summit presents an invaluable opportunity to not only deepen your understanding but also to connect and network with your peers. Plus\, be sure not to miss the reception at the end of Day One! \nRegistration: 32nd Immigration Law Summit (Day One) | LSO Store (In-person and Online) \nCPD:  5 h Substantive; 1 h 30 m Professionalism
URL:https://lirn.ca/event/lso-32nd-immigration-law-summit/
CATEGORIES:LSO CPD
END:VEVENT
BEGIN:VEVENT
DTSTART;TZID=America/Toronto:20241114T130000
DTEND;TZID=America/Toronto:20241114T133000
DTSTAMP:20260423T033051
CREATED:20240822T144555Z
LAST-MODIFIED:20240822T163212Z
UID:6540-1731589200-1731591000@lirn.ca
SUMMARY:LexisNexis Practical Guidance Training
DESCRIPTION:Description: Access to a comprehensive collection of templates and example documents in many areas of legal practice and explanatory materials to help lawyers get work done efficiently. \nRegistration: Meeting Registration – Zoom \nCPD Hours: 30 m Professionalism \nAlso offered: September 19\, 2024
URL:https://lirn.ca/event/lexisnexis-practical-guidance-training/
CATEGORIES:External Event,LSO CPD
END:VEVENT
BEGIN:VEVENT
DTSTART;TZID=America/Toronto:20241114T123000
DTEND;TZID=America/Toronto:20241114T130000
DTSTAMP:20260423T033051
CREATED:20240822T153252Z
LAST-MODIFIED:20240822T163149Z
UID:6553-1731587400-1731589200@lirn.ca
SUMMARY:Estates&TrustsSource Tips for Westlaw Canada
DESCRIPTION:Description: Discover resources you need for estate planning\, estate administration\, and estate litigation. \nRegistration: Microsoft Virtual Events Powered by Teams \nCPD Hours: 30 m Professionalism
URL:https://lirn.ca/event/estatestrustssource-tips-for-westlaw-canada/
CATEGORIES:External Event,LSO CPD
END:VEVENT
BEGIN:VEVENT
DTSTART;TZID=America/Toronto:20241112T130000
DTEND;TZID=America/Toronto:20241112T133000
DTSTAMP:20260423T033051
CREATED:20240830T133425Z
LAST-MODIFIED:20240830T133425Z
UID:6771-1731416400-1731418200@lirn.ca
SUMMARY:vLex Training
DESCRIPTION:Description: Webinar to review time-saving techniques\, advanced search strategies\, and mastering the latest enhancements. \nRegistration: Webinar Registration – Zoom \nCPD Hours: 30 m Professionalism \nAlso Offered: September 23\, October 17 and December 3\, 2024
URL:https://lirn.ca/event/vlex-training-3/
CATEGORIES:External Event,LSO CPD
END:VEVENT
BEGIN:VEVENT
DTSTART;TZID=America/Toronto:20241107T090000
DTEND;TZID=America/Toronto:20241107T163000
DTSTAMP:20260423T033051
CREATED:20241023T174530Z
LAST-MODIFIED:20241023T175449Z
UID:7282-1730970000-1730997000@lirn.ca
SUMMARY:LSO 14th Business Law Summit
DESCRIPTION:Description: The multifaceted world of business law demands that you keep up to date on the latest issues\, cases\, practices\, and procedures in a variety of practice areas to best serve your clients and provide them with excellent advice. Get the tools to do exactly that at this year’s business law summit. Don’t miss the reception at the end of the day. \nRegistration: 14th Business Law Summit | LSO Store (In-person and Online) \nCPD Hours: 6 h Substantive; 30 m Professionalism
URL:https://lirn.ca/event/lso-14th-business-law-summit/
CATEGORIES:LSO CPD
END:VEVENT
BEGIN:VEVENT
DTSTART;TZID=America/Toronto:20241028T123000
DTEND;TZID=America/Toronto:20241028T130000
DTSTAMP:20260423T033051
CREATED:20240822T152220Z
LAST-MODIFIED:20240822T163115Z
UID:6548-1730118600-1730120400@lirn.ca
SUMMARY:CriminalSource on Westlaw Training
DESCRIPTION:Description: Access essential resources on criminal practice and procedure with Criminal Source on Westlaw Canada. \nRegistration: Microsoft Virtual Events Powered by Teams \nCPD Hours: 30 m Professionalism
URL:https://lirn.ca/event/criminalsource-on-westlaw-training/
CATEGORIES:External Event,LSO CPD
ORGANIZER;CN="LiRN":MAILTO:admin@lirn.ca
END:VEVENT
BEGIN:VEVENT
DTSTART;TZID=America/Toronto:20241022T130000
DTEND;TZID=America/Toronto:20241022T133000
DTSTAMP:20260423T033051
CREATED:20240822T143423Z
LAST-MODIFIED:20240822T163045Z
UID:6538-1729602000-1729603800@lirn.ca
SUMMARY:Lexis Advance Quicklaw Training
DESCRIPTION:Description: Tips for finding cases and noting them up\, using the Quantums and accessing secondary materials. \nRegistration: Meeting Registration – Zoom \nCPD Hours: 30 m Professionalism \nAlso Offered: December 4\, 2024
URL:https://lirn.ca/event/lexis-advance-quicklaw-training/
CATEGORIES:External Event,LSO CPD
END:VEVENT
BEGIN:VEVENT
DTSTART;TZID=America/Toronto:20241017T110000
DTEND;TZID=America/Toronto:20241017T113000
DTSTAMP:20260423T033051
CREATED:20240830T133201Z
LAST-MODIFIED:20240830T133201Z
UID:6769-1729162800-1729164600@lirn.ca
SUMMARY:vLex Training
DESCRIPTION:Description: Webinar to review time-saving techniques\, advanced search strategies\, and mastering the latest enhancements. \nRegistration: Webinar Registration – Zoom \nCPD Hours: 30 m Professionalism \nAlso Offered: September 23\, November 12 and December 3\, 2024
URL:https://lirn.ca/event/vlex-training-2/
CATEGORIES:External Event,LSO CPD
END:VEVENT
BEGIN:VEVENT
DTSTART;TZID=America/Toronto:20241015T110000
DTEND;TZID=America/Toronto:20241015T120000
DTSTAMP:20260423T033051
CREATED:20240905T143634Z
LAST-MODIFIED:20240905T151208Z
UID:6831-1728990000-1728993600@lirn.ca
SUMMARY:LSO Regulations Research Refresher
DESCRIPTION:Description: In this one-hour group tutorial\, review the fundamentals of regulations research with one of our law librarians. Topics include an overview of the regulation-making process (Ontario and Federal)\, an introduction to a range of effective time-saving tools\, and a live demonstration of common regulation research tasks. \nRegistration: Regulations Research Refresher – Great Library Calendar – Great Library – Law Society of Ontario (libcal.com) \nCPD: 1 hr Professionalism
URL:https://lirn.ca/event/lso-regulations-research-refresher/
LOCATION:Online Only
CATEGORIES:External Event,LSO CPD
END:VEVENT
BEGIN:VEVENT
DTSTART;TZID=America/Toronto:20241008T110000
DTEND;TZID=America/Toronto:20241008T120000
DTSTAMP:20260423T033051
CREATED:20240905T143030Z
LAST-MODIFIED:20240905T143818Z
UID:6826-1728385200-1728388800@lirn.ca
SUMMARY:LSO Legislative Research Refresher
DESCRIPTION:Description: In this one-hour group tutorial\, review the fundamentals of legislative research with one of our law librarians. Topics include an overview of the legislative process (Ontario and federal)\, effective time-saving tools\, and a live demonstration of common legislative research tasks. \nRegistration: Legislative Research Refresher – Great Library Calendar – Great Library – Law Society of Ontario (libcal.com) \nCPD Hours: 1 hr Professionalism
URL:https://lirn.ca/event/lso-legislative-research-refresher/
LOCATION:Online Only
CATEGORIES:External Event,LSO CPD
END:VEVENT
BEGIN:VEVENT
DTSTART;TZID=America/Toronto:20241001T090000
DTEND;TZID=America/Toronto:20241001T123000
DTSTAMP:20260423T033051
CREATED:20240822T172050Z
LAST-MODIFIED:20240905T143054Z
UID:6578-1727773200-1727785800@lirn.ca
SUMMARY:Developments in Health and Safety Law 2024
DESCRIPTION:Description: Your go-to program for updates in health and safety law is back! Join us as we cover an array of topical issues that you need to know about in 2024. \nRegistration: Developments in Health and Safety Law 2024 | LSO Store \nCPD Hours: 2 h 30 m Substantive\, 1 h Professionalism
URL:https://lirn.ca/event/developments-in-health-and-safety-law-2024/
LOCATION:Online Only
CATEGORIES:External Event,LSO CPD
END:VEVENT
BEGIN:VEVENT
DTSTART;TZID=America/Toronto:20240923T150000
DTEND;TZID=America/Toronto:20240923T153000
DTSTAMP:20260423T033051
CREATED:20240830T132932Z
LAST-MODIFIED:20240923T162842Z
UID:6766-1727103600-1727105400@lirn.ca
SUMMARY:vLex Training CANCELLED
DESCRIPTION:Sorry\, but this session had to be cancelled at the last minute; please consider registering for either of the dates below. \n  \nDescription: Webinar to review time-saving techniques\, advanced search strategies\, and mastering the latest enhancements. \nRegistration: Meeting Registration – Zoom \nCPD Hours: 30 m Professionalism \nAlso Offered: October 17\, November 12 and December 3\, 2024 \n 
URL:https://lirn.ca/event/vlex-training/
CATEGORIES:External Event,LSO CPD
END:VEVENT
BEGIN:VEVENT
DTSTART;TZID=America/Toronto:20240919T130000
DTEND;TZID=America/Toronto:20240919T133000
DTSTAMP:20260423T033051
CREATED:20240822T142347Z
LAST-MODIFIED:20240822T162905Z
UID:6529-1726750800-1726752600@lirn.ca
SUMMARY:LexisNexis Practical Guidance Training
DESCRIPTION:Description: Access to a comprehensive collection of templates and example documents in many areas of legal practice and explanatory materials to help lawyers get work done efficiently. \nRegistration: Meeting Registration – Zoom \nCPD Hours: 30 m Professionalism \nAlso Offered: November 14\, 2024 \n 
URL:https://lirn.ca/event/lexis-nexus-practical-guidance-training/
CATEGORIES:External Event,LSO CPD
END:VEVENT
BEGIN:VEVENT
DTSTART;VALUE=DATE:20240918
DTEND;VALUE=DATE:20240920
DTSTAMP:20260423T033051
CREATED:20240822T170331Z
LAST-MODIFIED:20240822T171308Z
UID:6568-1726617600-1726790399@lirn.ca
SUMMARY:7th Motor Vehicle Litigation Summit
DESCRIPTION:Description: A not-to-be-missed program! Hear from a wide variety of leading experts as they deliver crucial legislative updates\, discuss procedural matters\, provide insight into practice management challenges\, and more. Online and In-Person. \nRegistration: 7th Motor Vehicle Litigation Summit | LSO Store \nCPD Hours: 8 h 30 m Substantive; 2 h 30 m Professionalism; 1 h EDI Professionalism
URL:https://lirn.ca/event/7th-motor-vehicle-litigation-summit/
LOCATION:Osgoode Hall\, Toronto
CATEGORIES:Conference,External Event,LSO CPD
END:VEVENT
BEGIN:VEVENT
DTSTART;VALUE=DATE:20240822
DTEND;VALUE=DATE:20240824
DTSTAMP:20260423T033051
CREATED:20240822T172758Z
LAST-MODIFIED:20240822T172949Z
UID:6580-1724284800-1724457599@lirn.ca
SUMMARY:27th Estates and Trusts Summit
DESCRIPTION:Description: With changes in Ontario’s population demographics\, the demands on Estates and Trusts practitioners is greater and more complex than ever. Whether you are sole practitioner with a varied practice or a practitioner in a firm specializing in estates and trusts law\, this annual two-day program brings you the most important developments on what you want (and need) to know.  In-person and Online. \nRegistration Day One:  27th Estates and Trusts Summit (Day One) | LSO Store \nRegistration Day Two: 27th Estates and Trusts Summit (Day Two) | LSO Store \nCPD Hours: 5 h Substantive; 1 h 30 m Professionalism (per day)
URL:https://lirn.ca/event/27th-estates-and-trusts-summit/
LOCATION:Osgoode Hall\, Toronto
CATEGORIES:Conference,External Event,LSO CPD
END:VEVENT
END:VCALENDAR