BEGIN:VCALENDAR
VERSION:2.0
PRODID:-//LiRN - ECPv6.15.20//NONSGML v1.0//EN
CALSCALE:GREGORIAN
METHOD:PUBLISH
X-WR-CALNAME:LiRN
X-ORIGINAL-URL:https://lirn.ca
X-WR-CALDESC:Events for LiRN
REFRESH-INTERVAL;VALUE=DURATION:PT1H
X-Robots-Tag:noindex
X-PUBLISHED-TTL:PT1H
BEGIN:VTIMEZONE
TZID:America/Toronto
BEGIN:DAYLIGHT
TZOFFSETFROM:-0500
TZOFFSETTO:-0400
TZNAME:EDT
DTSTART:20230312T070000
END:DAYLIGHT
BEGIN:STANDARD
TZOFFSETFROM:-0400
TZOFFSETTO:-0500
TZNAME:EST
DTSTART:20231105T060000
END:STANDARD
BEGIN:DAYLIGHT
TZOFFSETFROM:-0500
TZOFFSETTO:-0400
TZNAME:EDT
DTSTART:20240310T070000
END:DAYLIGHT
BEGIN:STANDARD
TZOFFSETFROM:-0400
TZOFFSETTO:-0500
TZNAME:EST
DTSTART:20241103T060000
END:STANDARD
BEGIN:DAYLIGHT
TZOFFSETFROM:-0500
TZOFFSETTO:-0400
TZNAME:EDT
DTSTART:20250309T070000
END:DAYLIGHT
BEGIN:STANDARD
TZOFFSETFROM:-0400
TZOFFSETTO:-0500
TZNAME:EST
DTSTART:20251102T060000
END:STANDARD
END:VTIMEZONE
BEGIN:VEVENT
DTSTART;VALUE=DATE:20240607
DTEND;VALUE=DATE:20240608
DTSTAMP:20260423T181918
CREATED:20240311T171453Z
LAST-MODIFIED:20240311T171453Z
UID:5723-1717718400-1717804799@lirn.ca
SUMMARY:LiRN send Business Cases/EFB Responses to Associations
DESCRIPTION:
URL:https://lirn.ca/event/lirn-send-business-cases-efb-responses-to-associations/
CATEGORIES:Business Cases,EFB Due Date
END:VEVENT
BEGIN:VEVENT
DTSTART;VALUE=DATE:20240515
DTEND;VALUE=DATE:20240516
DTSTAMP:20260423T181918
CREATED:20231212T151157Z
LAST-MODIFIED:20231212T151157Z
UID:5068-1715731200-1715817599@lirn.ca
SUMMARY:EFB Due Date
DESCRIPTION:
URL:https://lirn.ca/event/efb-due-date/
CATEGORIES:EFB Due Date,Reports
ORGANIZER;CN="LiRN":MAILTO:admin@lirn.ca
END:VEVENT
BEGIN:VEVENT
DTSTART;VALUE=DATE:20240509
DTEND;VALUE=DATE:20240510
DTSTAMP:20260423T181918
CREATED:20240311T171351Z
LAST-MODIFIED:20240311T171351Z
UID:5721-1715212800-1715299199@lirn.ca
SUMMARY:Business Cases/EFB Proposals Due
DESCRIPTION:
URL:https://lirn.ca/event/business-cases-efb-proposals-due/
CATEGORIES:Business Cases,EFB Due Date
END:VEVENT
BEGIN:VEVENT
DTSTART;VALUE=DATE:20240328
DTEND;VALUE=DATE:20240329
DTSTAMP:20260423T181918
CREATED:20240311T171206Z
LAST-MODIFIED:20240311T171206Z
UID:5719-1711584000-1711670399@lirn.ca
SUMMARY:LiRN sends Excess Fund Balance Notifications
DESCRIPTION:
URL:https://lirn.ca/event/lirn-sends-excess-fund-balance-notifications/
CATEGORIES:EFB Due Date
END:VEVENT
END:VCALENDAR