BEGIN:VCALENDAR
VERSION:2.0
PRODID:-//LiRN - ECPv6.15.20//NONSGML v1.0//EN
CALSCALE:GREGORIAN
METHOD:PUBLISH
X-WR-CALNAME:LiRN
X-ORIGINAL-URL:https://lirn.ca
X-WR-CALDESC:Events for LiRN
REFRESH-INTERVAL;VALUE=DURATION:PT1H
X-Robots-Tag:noindex
X-PUBLISHED-TTL:PT1H
BEGIN:VTIMEZONE
TZID:America/Toronto
BEGIN:DAYLIGHT
TZOFFSETFROM:-0500
TZOFFSETTO:-0400
TZNAME:EDT
DTSTART:20230312T070000
END:DAYLIGHT
BEGIN:STANDARD
TZOFFSETFROM:-0400
TZOFFSETTO:-0500
TZNAME:EST
DTSTART:20231105T060000
END:STANDARD
BEGIN:DAYLIGHT
TZOFFSETFROM:-0500
TZOFFSETTO:-0400
TZNAME:EDT
DTSTART:20240310T070000
END:DAYLIGHT
BEGIN:STANDARD
TZOFFSETFROM:-0400
TZOFFSETTO:-0500
TZNAME:EST
DTSTART:20241103T060000
END:STANDARD
BEGIN:DAYLIGHT
TZOFFSETFROM:-0500
TZOFFSETTO:-0400
TZNAME:EDT
DTSTART:20250309T070000
END:DAYLIGHT
BEGIN:STANDARD
TZOFFSETFROM:-0400
TZOFFSETTO:-0500
TZNAME:EST
DTSTART:20251102T060000
END:STANDARD
BEGIN:DAYLIGHT
TZOFFSETFROM:-0500
TZOFFSETTO:-0400
TZNAME:EDT
DTSTART:20260308T070000
END:DAYLIGHT
BEGIN:STANDARD
TZOFFSETFROM:-0400
TZOFFSETTO:-0500
TZNAME:EST
DTSTART:20261101T060000
END:STANDARD
END:VTIMEZONE
BEGIN:VEVENT
DTSTART;TZID=America/Toronto:20250513T130000
DTEND;TZID=America/Toronto:20250513T143000
DTSTAMP:20260423T055823
CREATED:20250203T212529Z
LAST-MODIFIED:20250422T153101Z
UID:8050-1747141200-1747146600@lirn.ca
SUMMARY:Governance Committee Meeting - Cancelled
DESCRIPTION:
URL:https://lirn.ca/event/governance-committee-meeting-4/
LOCATION:Online Only
CATEGORIES:Board/Committee Meetings
ORGANIZER;CN="LiRN":MAILTO:admin@lirn.ca
END:VEVENT
BEGIN:VEVENT
DTSTART;TZID=America/Toronto:20250512T100000
DTEND;TZID=America/Toronto:20250512T113000
DTSTAMP:20260423T055823
CREATED:20250203T212637Z
LAST-MODIFIED:20250430T142806Z
UID:8052-1747044000-1747049400@lirn.ca
SUMMARY:Audit and Finance Committee Meeting
DESCRIPTION:
URL:https://lirn.ca/event/audit-and-finance-committee-meeting-2/
LOCATION:Online Only
CATEGORIES:Board/Committee Meetings
ORGANIZER;CN="LiRN":MAILTO:admin@lirn.ca
END:VEVENT
BEGIN:VEVENT
DTSTART;TZID=America/Toronto:20250428T120000
DTEND;TZID=America/Toronto:20250428T140000
DTSTAMP:20260423T055823
CREATED:20250203T211927Z
LAST-MODIFIED:20250422T160352Z
UID:8048-1745841600-1745848800@lirn.ca
SUMMARY:LiRN Board Meeting - Cancelled
DESCRIPTION:
URL:https://lirn.ca/event/lirn-board-meeting-4/
LOCATION:Online Only
CATEGORIES:Board/Committee Meetings
ORGANIZER;CN="LiRN":MAILTO:admin@lirn.ca
END:VEVENT
BEGIN:VEVENT
DTSTART;TZID=America/Toronto:20250416T153000
DTEND;TZID=America/Toronto:20250416T170000
DTSTAMP:20260423T055823
CREATED:20250203T211650Z
LAST-MODIFIED:20250211T171326Z
UID:8044-1744817400-1744822800@lirn.ca
SUMMARY:Network Policy Committee Meeting
DESCRIPTION:
URL:https://lirn.ca/event/network-policy-committee-meeting-2/
LOCATION:Online Only
CATEGORIES:Board/Committee Meetings
ORGANIZER;CN="LiRN":MAILTO:admin@lirn.ca
END:VEVENT
BEGIN:VEVENT
DTSTART;TZID=America/Toronto:20250416T130000
DTEND;TZID=America/Toronto:20250416T143000
DTSTAMP:20260423T055823
CREATED:20250203T211815Z
LAST-MODIFIED:20250203T211815Z
UID:8046-1744808400-1744813800@lirn.ca
SUMMARY:Governance Committee Meeting
DESCRIPTION:
URL:https://lirn.ca/event/governance-committee-meeting-3/
LOCATION:Online Only
CATEGORIES:Board/Committee Meetings
ORGANIZER;CN="LiRN":MAILTO:admin@lirn.ca
END:VEVENT
BEGIN:VEVENT
DTSTART;TZID=America/Toronto:20250331T120000
DTEND;TZID=America/Toronto:20250331T140000
DTSTAMP:20260423T055823
CREATED:20250203T211511Z
LAST-MODIFIED:20250203T211511Z
UID:8042-1743422400-1743429600@lirn.ca
SUMMARY:LiRN Board Meeting
DESCRIPTION:
URL:https://lirn.ca/event/lirn-board-meeting-3/
LOCATION:Online Only
CATEGORIES:Board/Committee Meetings
ORGANIZER;CN="LiRN":MAILTO:admin@lirn.ca
END:VEVENT
BEGIN:VEVENT
DTSTART;TZID=America/Toronto:20250320T130000
DTEND;TZID=America/Toronto:20250320T143000
DTSTAMP:20260423T055823
CREATED:20250203T211406Z
LAST-MODIFIED:20250203T211406Z
UID:8040-1742475600-1742481000@lirn.ca
SUMMARY:Audit and Finance Committee Meeting
DESCRIPTION:
URL:https://lirn.ca/event/audit-and-finance-committee-meeting/
LOCATION:Online Only
CATEGORIES:Board/Committee Meetings
ORGANIZER;CN="LiRN":MAILTO:admin@lirn.ca
END:VEVENT
BEGIN:VEVENT
DTSTART;TZID=America/Toronto:20250317T130000
DTEND;TZID=America/Toronto:20250317T143000
DTSTAMP:20260423T055823
CREATED:20250203T211305Z
LAST-MODIFIED:20250203T211305Z
UID:8038-1742216400-1742221800@lirn.ca
SUMMARY:Governance Committee Meeting
DESCRIPTION:
URL:https://lirn.ca/event/governance-committee-meeting-2/
LOCATION:Online Only
CATEGORIES:Board/Committee Meetings
ORGANIZER;CN="LiRN":MAILTO:admin@lirn.ca
END:VEVENT
BEGIN:VEVENT
DTSTART;TZID=America/Toronto:20250224T120000
DTEND;TZID=America/Toronto:20250224T140000
DTSTAMP:20260423T055823
CREATED:20250203T211116Z
LAST-MODIFIED:20250203T211116Z
UID:8036-1740398400-1740405600@lirn.ca
SUMMARY:LiRN Board Meeting
DESCRIPTION:
URL:https://lirn.ca/event/lirn-board-meeting-2/
LOCATION:Online Only
CATEGORIES:Board/Committee Meetings
ORGANIZER;CN="LiRN":MAILTO:admin@lirn.ca
END:VEVENT
BEGIN:VEVENT
DTSTART;TZID=America/Toronto:20250210T150000
DTEND;TZID=America/Toronto:20250210T163000
DTSTAMP:20260423T055823
CREATED:20250203T211017Z
LAST-MODIFIED:20250203T211017Z
UID:8034-1739199600-1739205000@lirn.ca
SUMMARY:Audit & Finance Committee Meeting
DESCRIPTION:
URL:https://lirn.ca/event/audit-finance-committee-meeting-2/
LOCATION:Online Only
CATEGORIES:Board/Committee Meetings
ORGANIZER;CN="LiRN":MAILTO:admin@lirn.ca
END:VEVENT
BEGIN:VEVENT
DTSTART;TZID=America/Toronto:20250206T130000
DTEND;TZID=America/Toronto:20250206T143000
DTSTAMP:20260423T055823
CREATED:20250203T210900Z
LAST-MODIFIED:20250203T210900Z
UID:8032-1738846800-1738852200@lirn.ca
SUMMARY:Governance Committee Meeting
DESCRIPTION:
URL:https://lirn.ca/event/governance-committee-meeting/
LOCATION:Online Only
CATEGORIES:Board/Committee Meetings
ORGANIZER;CN="LiRN":MAILTO:admin@lirn.ca
END:VEVENT
BEGIN:VEVENT
DTSTART;TZID=America/Toronto:20250203T130000
DTEND;TZID=America/Toronto:20250203T143000
DTSTAMP:20260423T055823
CREATED:20250203T210501Z
LAST-MODIFIED:20250203T210501Z
UID:8030-1738587600-1738593000@lirn.ca
SUMMARY:Network Policy Committee Meeting
DESCRIPTION:
URL:https://lirn.ca/event/network-policy-committee-meeting/
LOCATION:Online Only
CATEGORIES:Board/Committee Meetings
ORGANIZER;CN="LiRN":MAILTO:admin@lirn.ca
END:VEVENT
BEGIN:VEVENT
DTSTART;TZID=America/Toronto:20250124T150000
DTEND;TZID=America/Toronto:20250124T170000
DTSTAMP:20260423T055823
CREATED:20250203T210359Z
LAST-MODIFIED:20250203T210359Z
UID:8028-1737730800-1737738000@lirn.ca
SUMMARY:LiRN Board Meeting
DESCRIPTION:
URL:https://lirn.ca/event/lirn-board-meeting/
LOCATION:Online Only
CATEGORIES:Board/Committee Meetings
ORGANIZER;CN="LiRN":MAILTO:admin@lirn.ca
END:VEVENT
BEGIN:VEVENT
DTSTART;TZID=America/Toronto:20241202T120000
DTEND;TZID=America/Toronto:20241202T140000
DTSTAMP:20260423T055823
CREATED:20231212T145643Z
LAST-MODIFIED:20231213T152235Z
UID:5060-1733140800-1733148000@lirn.ca
SUMMARY:Board Meeting
DESCRIPTION:
URL:https://lirn.ca/event/board-meeting-5/
CATEGORIES:Board/Committee Meetings
ORGANIZER;CN="LiRN":MAILTO:admin@lirn.ca
END:VEVENT
BEGIN:VEVENT
DTSTART;TZID=America/Toronto:20241118T130000
DTEND;TZID=America/Toronto:20241118T143000
DTSTAMP:20260423T055823
CREATED:20231212T145556Z
LAST-MODIFIED:20241105T193137Z
UID:5058-1731934800-1731940200@lirn.ca
SUMMARY:Audit & Finance Meeting
DESCRIPTION:(previously November 20th)
URL:https://lirn.ca/event/audit-finance-meeting-5/
CATEGORIES:Board/Committee Meetings
ORGANIZER;CN="LiRN":MAILTO:admin@lirn.ca
END:VEVENT
BEGIN:VEVENT
DTSTART;TZID=America/Toronto:20241030T120000
DTEND;TZID=America/Toronto:20241030T140000
DTSTAMP:20260423T055823
CREATED:20231212T145458Z
LAST-MODIFIED:20231213T152112Z
UID:5056-1730289600-1730296800@lirn.ca
SUMMARY:Board Meeting
DESCRIPTION:
URL:https://lirn.ca/event/board-meeting-4/
CATEGORIES:Board/Committee Meetings
ORGANIZER;CN="LiRN":MAILTO:admin@lirn.ca
END:VEVENT
BEGIN:VEVENT
DTSTART;TZID=America/Toronto:20241010T130000
DTEND;TZID=America/Toronto:20241010T143000
DTSTAMP:20260423T055823
CREATED:20231212T145418Z
LAST-MODIFIED:20231213T152012Z
UID:5054-1728565200-1728570600@lirn.ca
SUMMARY:Governance Meeting
DESCRIPTION:
URL:https://lirn.ca/event/governance-meeting-3/
CATEGORIES:Board/Committee Meetings
ORGANIZER;CN="LiRN":MAILTO:admin@lirn.ca
END:VEVENT
BEGIN:VEVENT
DTSTART;TZID=America/Toronto:20241001T130000
DTEND;TZID=America/Toronto:20241001T143000
DTSTAMP:20260423T055823
CREATED:20231212T145336Z
LAST-MODIFIED:20231213T151918Z
UID:5052-1727787600-1727793000@lirn.ca
SUMMARY:Network Policy Meeting
DESCRIPTION:
URL:https://lirn.ca/event/network-policy-meeting-3/
CATEGORIES:Board/Committee Meetings
ORGANIZER;CN="LiRN":MAILTO:admin@lirn.ca
END:VEVENT
BEGIN:VEVENT
DTSTART;TZID=America/Toronto:20240829T120000
DTEND;TZID=America/Toronto:20240829T140000
DTSTAMP:20260423T055823
CREATED:20231212T145249Z
LAST-MODIFIED:20231213T151639Z
UID:5050-1724932800-1724940000@lirn.ca
SUMMARY:Board Meeting
DESCRIPTION:
URL:https://lirn.ca/event/board-meeting-3/
CATEGORIES:Board/Committee Meetings
ORGANIZER;CN="LiRN":MAILTO:admin@lirn.ca
END:VEVENT
BEGIN:VEVENT
DTSTART;TZID=America/Toronto:20240821T130000
DTEND;TZID=America/Toronto:20240821T143000
DTSTAMP:20260423T055823
CREATED:20231212T145207Z
LAST-MODIFIED:20231213T151536Z
UID:5048-1724245200-1724250600@lirn.ca
SUMMARY:Audit & Finance Meeting
DESCRIPTION:
URL:https://lirn.ca/event/audit-finance-meeting-4/
CATEGORIES:Board/Committee Meetings
ORGANIZER;CN="LiRN":MAILTO:admin@lirn.ca
END:VEVENT
BEGIN:VEVENT
DTSTART;TZID=America/Toronto:20240717T130000
DTEND;TZID=America/Toronto:20240717T143000
DTSTAMP:20260423T055823
CREATED:20240626T173618Z
LAST-MODIFIED:20240626T174049Z
UID:6404-1721221200-1721226600@lirn.ca
SUMMARY:Audit & Finance Committee Meeting
DESCRIPTION:
URL:https://lirn.ca/event/audit-finance-committee-meeting/
CATEGORIES:Board/Committee Meetings
ORGANIZER;CN="LiRN":MAILTO:admin@lirn.ca
END:VEVENT
BEGIN:VEVENT
DTSTART;TZID=America/Toronto:20240529T120000
DTEND;TZID=America/Toronto:20240529T133000
DTSTAMP:20260423T055823
CREATED:20231212T144940Z
LAST-MODIFIED:20231213T151340Z
UID:5044-1716984000-1716989400@lirn.ca
SUMMARY:AGM Meeting
DESCRIPTION:
URL:https://lirn.ca/event/agm-meeting/
LOCATION:LiRN\, 130 Queen St. West\, Toronto\, Ontario\, Canada
CATEGORIES:Board/Committee Meetings
ORGANIZER;CN="LiRN":MAILTO:admin@lirn.ca
END:VEVENT
BEGIN:VEVENT
DTSTART;TZID=America/Toronto:20240516T100000
DTEND;TZID=America/Toronto:20240516T110000
DTSTAMP:20260423T055823
CREATED:20231212T144853Z
LAST-MODIFIED:20231213T151016Z
UID:5042-1715853600-1715857200@lirn.ca
SUMMARY:Audit & Finance Meeting
DESCRIPTION:
URL:https://lirn.ca/event/audit-finance-meeting-2/
CATEGORIES:Board/Committee Meetings
ORGANIZER;CN="LiRN":MAILTO:admin@lirn.ca
END:VEVENT
BEGIN:VEVENT
DTSTART;VALUE=DATE:20240510
DTEND;VALUE=DATE:20240511
DTSTAMP:20260423T055823
CREATED:20231212T144755Z
LAST-MODIFIED:20231212T144755Z
UID:5040-1715299200-1715385599@lirn.ca
SUMMARY:Governance Meeting
DESCRIPTION:
URL:https://lirn.ca/event/governance-meeting-2/
CATEGORIES:Board/Committee Meetings
ORGANIZER;CN="LiRN":MAILTO:admin@lirn.ca
END:VEVENT
BEGIN:VEVENT
DTSTART;TZID=America/Toronto:20240503T120000
DTEND;TZID=America/Toronto:20240503T133000
DTSTAMP:20260423T055823
CREATED:20231212T144651Z
LAST-MODIFIED:20231213T150913Z
UID:5038-1714737600-1714743000@lirn.ca
SUMMARY:Network Policy Meeting
DESCRIPTION:
URL:https://lirn.ca/event/network-policy-meeting-2/
CATEGORIES:Board/Committee Meetings
ORGANIZER;CN="LiRN":MAILTO:admin@lirn.ca
END:VEVENT
BEGIN:VEVENT
DTSTART;TZID=America/Toronto:20240327T120000
DTEND;TZID=America/Toronto:20240327T140000
DTSTAMP:20260423T055823
CREATED:20231212T144552Z
LAST-MODIFIED:20231213T150221Z
UID:5036-1711540800-1711548000@lirn.ca
SUMMARY:Board Meeting
DESCRIPTION:
URL:https://lirn.ca/event/board-meeting-2/
CATEGORIES:Board/Committee Meetings
ORGANIZER;CN="LiRN":MAILTO:admin@lirn.ca
END:VEVENT
BEGIN:VEVENT
DTSTART;TZID=America/Toronto:20240320T120000
DTEND;TZID=America/Toronto:20240320T133000
DTSTAMP:20260423T055823
CREATED:20231212T144522Z
LAST-MODIFIED:20231213T145944Z
UID:5034-1710936000-1710941400@lirn.ca
SUMMARY:Audit & Finance Meeting
DESCRIPTION:
URL:https://lirn.ca/event/audit-finance-meeting/
CATEGORIES:Board/Committee Meetings
ORGANIZER;CN="LiRN":MAILTO:admin@lirn.ca
END:VEVENT
BEGIN:VEVENT
DTSTART;TZID=America/Toronto:20240308T130000
DTEND;TZID=America/Toronto:20240308T140000
DTSTAMP:20260423T055823
CREATED:20231212T144042Z
LAST-MODIFIED:20231213T145823Z
UID:5029-1709902800-1709906400@lirn.ca
SUMMARY:Governance Meeting
DESCRIPTION:
URL:https://lirn.ca/event/governance-meeting/
CATEGORIES:Board/Committee Meetings
ORGANIZER;CN="LiRN":MAILTO:admin@lirn.ca
END:VEVENT
BEGIN:VEVENT
DTSTART;TZID=America/Toronto:20240301T130000
DTEND;TZID=America/Toronto:20240301T140000
DTSTAMP:20260423T055824
CREATED:20231212T143953Z
LAST-MODIFIED:20231213T145711Z
UID:5027-1709298000-1709301600@lirn.ca
SUMMARY:Network Policy Meeting
DESCRIPTION:
URL:https://lirn.ca/event/network-policy-meeting/
CATEGORIES:Board/Committee Meetings
ORGANIZER;CN="LiRN":MAILTO:admin@lirn.ca
END:VEVENT
BEGIN:VEVENT
DTSTART;TZID=America/Toronto:20240125T120000
DTEND;TZID=America/Toronto:20240125T140000
DTSTAMP:20260423T055824
CREATED:20231211T151740Z
LAST-MODIFIED:20231213T145440Z
UID:4941-1706184000-1706191200@lirn.ca
SUMMARY:Board Meeting
DESCRIPTION:
URL:https://lirn.ca/event/board-meeting/
CATEGORIES:Board/Committee Meetings
END:VEVENT
END:VCALENDAR