BEGIN:VCALENDAR
VERSION:2.0
PRODID:-//LiRN - ECPv6.15.20//NONSGML v1.0//EN
CALSCALE:GREGORIAN
METHOD:PUBLISH
X-ORIGINAL-URL:https://lirn.ca
X-WR-CALDESC:Events for LiRN
REFRESH-INTERVAL;VALUE=DURATION:PT1H
X-Robots-Tag:noindex
X-PUBLISHED-TTL:PT1H
BEGIN:VTIMEZONE
TZID:America/Toronto
BEGIN:DAYLIGHT
TZOFFSETFROM:-0500
TZOFFSETTO:-0400
TZNAME:EDT
DTSTART:20250309T070000
END:DAYLIGHT
BEGIN:STANDARD
TZOFFSETFROM:-0400
TZOFFSETTO:-0500
TZNAME:EST
DTSTART:20251102T060000
END:STANDARD
BEGIN:DAYLIGHT
TZOFFSETFROM:-0500
TZOFFSETTO:-0400
TZNAME:EDT
DTSTART:20260308T070000
END:DAYLIGHT
BEGIN:STANDARD
TZOFFSETFROM:-0400
TZOFFSETTO:-0500
TZNAME:EST
DTSTART:20261101T060000
END:STANDARD
BEGIN:DAYLIGHT
TZOFFSETFROM:-0500
TZOFFSETTO:-0400
TZNAME:EDT
DTSTART:20270314T070000
END:DAYLIGHT
BEGIN:STANDARD
TZOFFSETFROM:-0400
TZOFFSETTO:-0500
TZNAME:EST
DTSTART:20271107T060000
END:STANDARD
END:VTIMEZONE
BEGIN:VEVENT
DTSTART;VALUE=DATE:20260507
DTEND;VALUE=DATE:20260508
DTSTAMP:20260420T091427
CREATED:20260114T181613Z
LAST-MODIFIED:20260114T181613Z
UID:10230-1778112000-1778198399@lirn.ca
SUMMARY:Network Policy Committee Meeting
DESCRIPTION:
URL:https://lirn.ca/event/network-policy-committee-meeting-5/
CATEGORIES:Board/Committee Meetings
END:VEVENT
BEGIN:VEVENT
DTSTART;VALUE=DATE:20260521
DTEND;VALUE=DATE:20260522
DTSTAMP:20260420T091427
CREATED:20260114T181136Z
LAST-MODIFIED:20260114T181136Z
UID:10214-1779321600-1779407999@lirn.ca
SUMMARY:Audit and Finance Committee Meeting
DESCRIPTION:
URL:https://lirn.ca/event/audit-and-finance-committee-meeting-4/
CATEGORIES:Board/Committee Meetings
END:VEVENT
BEGIN:VEVENT
DTSTART;VALUE=DATE:20260527
DTEND;VALUE=DATE:20260528
DTSTAMP:20260420T091427
CREATED:20260114T180908Z
LAST-MODIFIED:20260114T180908Z
UID:10206-1779840000-1779926399@lirn.ca
SUMMARY:LiRN Board Meeting
DESCRIPTION:
URL:https://lirn.ca/event/lirn-board-meeting-10/
CATEGORIES:Board/Committee Meetings
END:VEVENT
BEGIN:VEVENT
DTSTART;VALUE=DATE:20260619
DTEND;VALUE=DATE:20260621
DTSTAMP:20260420T091427
CREATED:20260114T181806Z
LAST-MODIFIED:20260114T181806Z
UID:10234-1781827200-1781999999@lirn.ca
SUMMARY:LiRN Annual General Meeting and Retreat
DESCRIPTION:
URL:https://lirn.ca/event/lirn-annual-general-meeting-and-retreat/
CATEGORIES:Board/Committee Meetings
END:VEVENT
BEGIN:VEVENT
DTSTART;VALUE=DATE:20260722
DTEND;VALUE=DATE:20260723
DTSTAMP:20260420T091427
CREATED:20260114T181202Z
LAST-MODIFIED:20260114T181202Z
UID:10216-1784678400-1784764799@lirn.ca
SUMMARY:Audit and Finance Committee Meeting
DESCRIPTION:
URL:https://lirn.ca/event/audit-and-finance-committee-meeting-5/
CATEGORIES:Board/Committee Meetings
END:VEVENT
BEGIN:VEVENT
DTSTART;VALUE=DATE:20260811
DTEND;VALUE=DATE:20260812
DTSTAMP:20260420T091427
CREATED:20260114T181236Z
LAST-MODIFIED:20260114T181236Z
UID:10218-1786406400-1786492799@lirn.ca
SUMMARY:Audit and Finance Committee Meeting
DESCRIPTION:
URL:https://lirn.ca/event/audit-and-finance-committee-meeting-6/
CATEGORIES:Board/Committee Meetings
END:VEVENT
BEGIN:VEVENT
DTSTART;VALUE=DATE:20260824
DTEND;VALUE=DATE:20260825
DTSTAMP:20260420T091427
CREATED:20260114T180946Z
LAST-MODIFIED:20260114T180946Z
UID:10208-1787529600-1787615999@lirn.ca
SUMMARY:LiRN Board Meeting
DESCRIPTION:
URL:https://lirn.ca/event/lirn-board-meeting-11/
CATEGORIES:Board/Committee Meetings
END:VEVENT
BEGIN:VEVENT
DTSTART;VALUE=DATE:20261020
DTEND;VALUE=DATE:20261021
DTSTAMP:20260420T091427
CREATED:20260114T181649Z
LAST-MODIFIED:20260114T181649Z
UID:10232-1792454400-1792540799@lirn.ca
SUMMARY:Network Policy Committee Meeting
DESCRIPTION:
URL:https://lirn.ca/event/network-policy-committee-meeting-6/
CATEGORIES:Board/Committee Meetings
END:VEVENT
BEGIN:VEVENT
DTSTART;VALUE=DATE:20261030
DTEND;VALUE=DATE:20261031
DTSTAMP:20260420T091427
CREATED:20260114T181459Z
LAST-MODIFIED:20260114T181459Z
UID:10226-1793318400-1793404799@lirn.ca
SUMMARY:Governance Committee Meetings
DESCRIPTION:
URL:https://lirn.ca/event/governance-committee-meetings-3/
CATEGORIES:Board/Committee Meetings
END:VEVENT
BEGIN:VEVENT
DTSTART;VALUE=DATE:20261117
DTEND;VALUE=DATE:20261118
DTSTAMP:20260420T091427
CREATED:20260114T181315Z
LAST-MODIFIED:20260114T181315Z
UID:10220-1794873600-1794959999@lirn.ca
SUMMARY:Audit and Finance Committee Meeting
DESCRIPTION:
URL:https://lirn.ca/event/audit-and-finance-committee-meeting-7/
CATEGORIES:Board/Committee Meetings
END:VEVENT
BEGIN:VEVENT
DTSTART;VALUE=DATE:20261127
DTEND;VALUE=DATE:20261128
DTSTAMP:20260420T091427
CREATED:20260114T181024Z
LAST-MODIFIED:20260114T181024Z
UID:10210-1795737600-1795823999@lirn.ca
SUMMARY:LiRN Board Meeting
DESCRIPTION:
URL:https://lirn.ca/event/lirn-board-meeting-12/
CATEGORIES:Board/Committee Meetings
END:VEVENT
END:VCALENDAR