BEGIN:VCALENDAR
VERSION:2.0
PRODID:-//LiRN - ECPv6.15.20//NONSGML v1.0//EN
CALSCALE:GREGORIAN
METHOD:PUBLISH
X-WR-CALNAME:LiRN
X-ORIGINAL-URL:https://lirn.ca
X-WR-CALDESC:Events for LiRN
REFRESH-INTERVAL;VALUE=DURATION:PT1H
X-Robots-Tag:noindex
X-PUBLISHED-TTL:PT1H
BEGIN:VTIMEZONE
TZID:America/Toronto
BEGIN:DAYLIGHT
TZOFFSETFROM:-0500
TZOFFSETTO:-0400
TZNAME:EDT
DTSTART:20250309T070000
END:DAYLIGHT
BEGIN:STANDARD
TZOFFSETFROM:-0400
TZOFFSETTO:-0500
TZNAME:EST
DTSTART:20251102T060000
END:STANDARD
BEGIN:DAYLIGHT
TZOFFSETFROM:-0500
TZOFFSETTO:-0400
TZNAME:EDT
DTSTART:20260308T070000
END:DAYLIGHT
BEGIN:STANDARD
TZOFFSETFROM:-0400
TZOFFSETTO:-0500
TZNAME:EST
DTSTART:20261101T060000
END:STANDARD
BEGIN:DAYLIGHT
TZOFFSETFROM:-0500
TZOFFSETTO:-0400
TZNAME:EDT
DTSTART:20270314T070000
END:DAYLIGHT
BEGIN:STANDARD
TZOFFSETFROM:-0400
TZOFFSETTO:-0500
TZNAME:EST
DTSTART:20271107T060000
END:STANDARD
END:VTIMEZONE
BEGIN:VEVENT
DTSTART;VALUE=DATE:20261028
DTEND;VALUE=DATE:20261029
DTSTAMP:20260423T210414
CREATED:20260325T161841Z
LAST-MODIFIED:20260325T161841Z
UID:10613-1793145600-1793231999@lirn.ca
SUMMARY:Q3 Financial Reports Due
DESCRIPTION:Financial Reporting Due Dates: \n\nApril 28\, 2026: Financial Reports for Q1 2026 Due\nJuly 28\, 2026: Financial Reports for Q2 2026 Due\nOctober 28\, 2026: Financial Reports for Q3 2026 Due\nJanuary 28\, 2027: Financial Reports for Q4 2026 Due\n\nMore information at: Financial Information for Associations – LiRN
URL:https://lirn.ca/event/q3-financial-reports-due/
LOCATION:Online Only
CATEGORIES:Financial Report Due Dates
ORGANIZER;CN="LiRN":MAILTO:admin@lirn.ca
END:VEVENT
END:VCALENDAR