BEGIN:VCALENDAR
VERSION:2.0
PRODID:-//LiRN - ECPv6.15.20//NONSGML v1.0//EN
CALSCALE:GREGORIAN
METHOD:PUBLISH
X-WR-CALNAME:LiRN
X-ORIGINAL-URL:https://lirn.ca
X-WR-CALDESC:Events for LiRN
REFRESH-INTERVAL;VALUE=DURATION:PT1H
X-Robots-Tag:noindex
X-PUBLISHED-TTL:PT1H
BEGIN:VTIMEZONE
TZID:America/Toronto
BEGIN:DAYLIGHT
TZOFFSETFROM:-0500
TZOFFSETTO:-0400
TZNAME:EDT
DTSTART:20240310T070000
END:DAYLIGHT
BEGIN:STANDARD
TZOFFSETFROM:-0400
TZOFFSETTO:-0500
TZNAME:EST
DTSTART:20241103T060000
END:STANDARD
BEGIN:DAYLIGHT
TZOFFSETFROM:-0500
TZOFFSETTO:-0400
TZNAME:EDT
DTSTART:20250309T070000
END:DAYLIGHT
BEGIN:STANDARD
TZOFFSETFROM:-0400
TZOFFSETTO:-0500
TZNAME:EST
DTSTART:20251102T060000
END:STANDARD
BEGIN:DAYLIGHT
TZOFFSETFROM:-0500
TZOFFSETTO:-0400
TZNAME:EDT
DTSTART:20260308T070000
END:DAYLIGHT
BEGIN:STANDARD
TZOFFSETFROM:-0400
TZOFFSETTO:-0500
TZNAME:EST
DTSTART:20261101T060000
END:STANDARD
END:VTIMEZONE
BEGIN:VEVENT
DTSTART;TZID=America/Toronto:20251218T110000
DTEND;TZID=America/Toronto:20251218T113000
DTSTAMP:20260422T183134
CREATED:20251008T175358Z
LAST-MODIFIED:20251008T175358Z
UID:9788-1766055600-1766057400@lirn.ca
SUMMARY:vLex Webinar
DESCRIPTION:Expect the following from your vLex webinar: \n▪ Accelerated Efficiency: Learn time-saving techniques and shortcuts to streamline your research process\, ensuring that you locate the most relevant and up-to-date legal information quickly.\n▪ Advanced Search Strategies: Discover advanced search techniques and tips that will enable you to conduct thorough and precise searches.\n▪ Master the Latest Enhancements: Given recent updates and enhancements to vLex\, our training session will ensure that you are up to speed with the latest features\, tools\, and resources available to you.\n▪ Unparalleled Support: During the training session\, you’ll have the opportunity to ask questions and seek clarifications\, ensuring that you make the most of vLex’s features and resources. \nThe session will be offered on dates and times as listed below along with the link. The same information is provided at each session. No need to register\, just join in on the best date for you. \nOct 30\, 2025 11:00 AM Eastern Time (https://fastcase.zoom.us/webinar/register/WN_y2M0i78LQvKwSbYtQUjR0A) \nNov 11\, 2025 11:00 AM Eastern Time (https://fastcase.zoom.us/webinar/register/WN_jsCN5GWWSCqQwwcvjTHAUg) \nDec 18\, 2025 11:00 AM Eastern Time (https://fastcase.zoom.us/webinar/register/WN_C4S9KX_2TWSm8J1BqHZQtw)
URL:https://lirn.ca/event/vlex-webinar-3/
END:VEVENT
END:VCALENDAR