BEGIN:VCALENDAR
VERSION:2.0
PRODID:-//LiRN - ECPv6.15.20//NONSGML v1.0//EN
CALSCALE:GREGORIAN
METHOD:PUBLISH
X-ORIGINAL-URL:https://lirn.ca
X-WR-CALDESC:Events for LiRN
REFRESH-INTERVAL;VALUE=DURATION:PT1H
X-Robots-Tag:noindex
X-PUBLISHED-TTL:PT1H
BEGIN:VTIMEZONE
TZID:America/Toronto
BEGIN:DAYLIGHT
TZOFFSETFROM:-0500
TZOFFSETTO:-0400
TZNAME:EDT
DTSTART:20240310T070000
END:DAYLIGHT
BEGIN:STANDARD
TZOFFSETFROM:-0400
TZOFFSETTO:-0500
TZNAME:EST
DTSTART:20241103T060000
END:STANDARD
BEGIN:DAYLIGHT
TZOFFSETFROM:-0500
TZOFFSETTO:-0400
TZNAME:EDT
DTSTART:20250309T070000
END:DAYLIGHT
BEGIN:STANDARD
TZOFFSETFROM:-0400
TZOFFSETTO:-0500
TZNAME:EST
DTSTART:20251102T060000
END:STANDARD
BEGIN:DAYLIGHT
TZOFFSETFROM:-0500
TZOFFSETTO:-0400
TZNAME:EDT
DTSTART:20260308T070000
END:DAYLIGHT
BEGIN:STANDARD
TZOFFSETFROM:-0400
TZOFFSETTO:-0500
TZNAME:EST
DTSTART:20261101T060000
END:STANDARD
END:VTIMEZONE
BEGIN:VEVENT
DTSTART;TZID=America/Toronto:20251118T110000
DTEND;TZID=America/Toronto:20251118T120000
DTSTAMP:20260422T182202
CREATED:20250129T170514Z
LAST-MODIFIED:20250403T174325Z
UID:7979-1763463600-1763467200@lirn.ca
SUMMARY:Bullying in the workplace
DESCRIPTION:From causing feelings of anxiety to a lack of sleep and nervousness\, bullying not only affects work productivity but can have long-lasting psychological effects. In this seminar\, participants will learn how to play a proactive role in assisting someone that is being bullied and how to stop bullying in the workplace for good. \nRegistration: Meeting Registration – Zoom
URL:https://lirn.ca/event/bullying-in-the-workplace/
LOCATION:Online Only
CATEGORIES:LwL
END:VEVENT
BEGIN:VEVENT
DTSTART;TZID=America/Toronto:20251118T160000
DTEND;TZID=America/Toronto:20251118T163000
DTSTAMP:20260422T182202
CREATED:20251008T174604Z
LAST-MODIFIED:20251008T174604Z
UID:9774-1763481600-1763483400@lirn.ca
SUMMARY:Lexis+ Webinar
DESCRIPTION:Lexis+ Canada included in e-LiRN!\n\n \n\nThis information session is customized for courthouse library staff and lawyers.\n\n \n\nCPD Hours: Professionalism 30m\n\n \n\nThe session will be offered on dates and times as listed below along with the link. The same information is provided at each session. No need to register\, just join in on the best date for you.\n\n \n\nSeptember 18 at 12PM: https://relx.zoom.us/j/91943300479\n\n \n\nOctober 16 at 12PM: https://relx.zoom.us/j/95013766544\n\n \n\nNovember 18 at 4PM: https://relx.zoom.us/j/97631221749\n\n \n\nDecember 11 at 11AM: https://relx.zoom.us/j/95180030605
URL:https://lirn.ca/event/lexis-webinar/
CATEGORIES:LSO CPD
END:VEVENT
END:VCALENDAR