BEGIN:VCALENDAR
VERSION:2.0
PRODID:-//LiRN - ECPv6.15.20//NONSGML v1.0//EN
CALSCALE:GREGORIAN
METHOD:PUBLISH
X-ORIGINAL-URL:https://lirn.ca
X-WR-CALDESC:Events for LiRN
REFRESH-INTERVAL;VALUE=DURATION:PT1H
X-Robots-Tag:noindex
X-PUBLISHED-TTL:PT1H
BEGIN:VTIMEZONE
TZID:America/Toronto
BEGIN:DAYLIGHT
TZOFFSETFROM:-0500
TZOFFSETTO:-0400
TZNAME:EDT
DTSTART:20240310T070000
END:DAYLIGHT
BEGIN:STANDARD
TZOFFSETFROM:-0400
TZOFFSETTO:-0500
TZNAME:EST
DTSTART:20241103T060000
END:STANDARD
BEGIN:DAYLIGHT
TZOFFSETFROM:-0500
TZOFFSETTO:-0400
TZNAME:EDT
DTSTART:20250309T070000
END:DAYLIGHT
BEGIN:STANDARD
TZOFFSETFROM:-0400
TZOFFSETTO:-0500
TZNAME:EST
DTSTART:20251102T060000
END:STANDARD
BEGIN:DAYLIGHT
TZOFFSETFROM:-0500
TZOFFSETTO:-0400
TZNAME:EDT
DTSTART:20260308T070000
END:DAYLIGHT
BEGIN:STANDARD
TZOFFSETFROM:-0400
TZOFFSETTO:-0500
TZNAME:EST
DTSTART:20261101T060000
END:STANDARD
END:VTIMEZONE
BEGIN:VEVENT
DTSTART;TZID=America/Toronto:20250918T120000
DTEND;TZID=America/Toronto:20250918T123000
DTSTAMP:20260423T021508
CREATED:20250521T200037Z
LAST-MODIFIED:20250521T200037Z
UID:8965-1758196800-1758198600@lirn.ca
SUMMARY:Lexis+ Training
DESCRIPTION:This information session is customized for courthouse library staff and lawyers. Note that the session is Accredited for 30min Professionalism. \nThe session will be offered on seven dates and times as listed below along with the link. The same information is provided at each session. No need to register\, just join in on the best date for you. \n\nSeptember 18 at 12PM: https://relx.zoom.us/j/91943300479
URL:https://lirn.ca/event/lexis-training-10/
LOCATION:Online Only
CATEGORIES:External Event
END:VEVENT
BEGIN:VEVENT
DTSTART;TZID=America/Toronto:20250918T130000
DTEND;TZID=America/Toronto:20250918T133000
DTSTAMP:20260423T021508
CREATED:20250618T165358Z
LAST-MODIFIED:20250618T165358Z
UID:9102-1758200400-1758202200@lirn.ca
SUMMARY:Westlaw FamilySource Tips
DESCRIPTION:Explore the tools you need to efficiently handle any family law matter.  During this session we’ll explore…\n• Receiving the latest insights with Franks & Zalev’s This Week in Family Law newsletter.\n• Comprehensive access to a trusted library of essential family law commentary.\n• Effective\, time-saving techniques to quickly find relevant cases and legislation.\nCPD Hours: 30 m Professionalism \nThursday\, September 18\, 1:00 pm to 1:30 pm (Online)
URL:https://lirn.ca/event/westlaw-familysource-tips/
LOCATION:Online Only
CATEGORIES:External Event
END:VEVENT
END:VCALENDAR