BEGIN:VCALENDAR
VERSION:2.0
PRODID:-//LiRN - ECPv6.15.20//NONSGML v1.0//EN
CALSCALE:GREGORIAN
METHOD:PUBLISH
X-ORIGINAL-URL:https://lirn.ca
X-WR-CALDESC:Events for LiRN
REFRESH-INTERVAL;VALUE=DURATION:PT1H
X-Robots-Tag:noindex
X-PUBLISHED-TTL:PT1H
BEGIN:VTIMEZONE
TZID:America/Toronto
BEGIN:DAYLIGHT
TZOFFSETFROM:-0500
TZOFFSETTO:-0400
TZNAME:EDT
DTSTART:20240310T070000
END:DAYLIGHT
BEGIN:STANDARD
TZOFFSETFROM:-0400
TZOFFSETTO:-0500
TZNAME:EST
DTSTART:20241103T060000
END:STANDARD
BEGIN:DAYLIGHT
TZOFFSETFROM:-0500
TZOFFSETTO:-0400
TZNAME:EDT
DTSTART:20250309T070000
END:DAYLIGHT
BEGIN:STANDARD
TZOFFSETFROM:-0400
TZOFFSETTO:-0500
TZNAME:EST
DTSTART:20251102T060000
END:STANDARD
BEGIN:DAYLIGHT
TZOFFSETFROM:-0500
TZOFFSETTO:-0400
TZNAME:EDT
DTSTART:20260308T070000
END:DAYLIGHT
BEGIN:STANDARD
TZOFFSETFROM:-0400
TZOFFSETTO:-0500
TZNAME:EST
DTSTART:20261101T060000
END:STANDARD
END:VTIMEZONE
BEGIN:VEVENT
DTSTART;TZID=America/Toronto:20250617T110000
DTEND;TZID=America/Toronto:20250617T113000
DTSTAMP:20260423T055538
CREATED:20250521T195639Z
LAST-MODIFIED:20250521T195639Z
UID:8954-1750158000-1750159800@lirn.ca
SUMMARY:Lexis+ Training
DESCRIPTION:This information session is customized for courthouse library staff and lawyers. Note that the session is Accredited for 30min Professionalism. \nThe session will be offered on seven dates and times as listed below along with the link. The same information is provided at each session. No need to register\, just join in on the best date for you. \n\nMay 5 at 12PM: https://relx.zoom.us/j/98014015874\nJune 17 at 11AM: https://relx.zoom.us/j/93916263727\nJuly 10 at 12PM: https://relx.zoom.us/j/98520551358\nAugust 25 at 11AM: https://relx.zoom.us/j/99518635219\nSeptember 18 at 12PM: https://relx.zoom.us/j/91943300479
URL:https://lirn.ca/event/lexis-training-7/
LOCATION:Online Only
CATEGORIES:External Event
END:VEVENT
BEGIN:VEVENT
DTSTART;TZID=America/Toronto:20250617T110000
DTEND;TZID=America/Toronto:20250617T120000
DTSTAMP:20260423T055538
CREATED:20250513T191338Z
LAST-MODIFIED:20250520T123706Z
UID:8922-1750158000-1750161600@lirn.ca
SUMMARY:New Statistics Form Training
DESCRIPTION:Invitation via Outlook has been sent to Library Staff. If you did not receive yours\, email admin@lirn.ca. \nThis event will be recorded.
URL:https://lirn.ca/event/new-statistics-form-training/
CATEGORIES:LwL
ORGANIZER;CN="LiRN":MAILTO:admin@lirn.ca
END:VEVENT
END:VCALENDAR