BEGIN:VCALENDAR
VERSION:2.0
PRODID:-//LiRN - ECPv6.15.20//NONSGML v1.0//EN
CALSCALE:GREGORIAN
METHOD:PUBLISH
X-ORIGINAL-URL:https://lirn.ca
X-WR-CALDESC:Events for LiRN
REFRESH-INTERVAL;VALUE=DURATION:PT1H
X-Robots-Tag:noindex
X-PUBLISHED-TTL:PT1H
BEGIN:VTIMEZONE
TZID:America/Toronto
BEGIN:DAYLIGHT
TZOFFSETFROM:-0500
TZOFFSETTO:-0400
TZNAME:EDT
DTSTART:20240310T070000
END:DAYLIGHT
BEGIN:STANDARD
TZOFFSETFROM:-0400
TZOFFSETTO:-0500
TZNAME:EST
DTSTART:20241103T060000
END:STANDARD
BEGIN:DAYLIGHT
TZOFFSETFROM:-0500
TZOFFSETTO:-0400
TZNAME:EDT
DTSTART:20250309T070000
END:DAYLIGHT
BEGIN:STANDARD
TZOFFSETFROM:-0400
TZOFFSETTO:-0500
TZNAME:EST
DTSTART:20251102T060000
END:STANDARD
BEGIN:DAYLIGHT
TZOFFSETFROM:-0500
TZOFFSETTO:-0400
TZNAME:EDT
DTSTART:20260308T070000
END:DAYLIGHT
BEGIN:STANDARD
TZOFFSETFROM:-0400
TZOFFSETTO:-0500
TZNAME:EST
DTSTART:20261101T060000
END:STANDARD
END:VTIMEZONE
BEGIN:VEVENT
DTSTART;TZID=America/Toronto:20250505T120000
DTEND;TZID=America/Toronto:20250505T130000
DTSTAMP:20260423T153102
CREATED:20250226T140103Z
LAST-MODIFIED:20250226T140103Z
UID:8340-1746446400-1746450000@lirn.ca
SUMMARY:Lexis+ Training
DESCRIPTION:This information session is customized for courthouse library staff and lawyers. Note that the session is Accredited for Professionalism Hours (number of hours to be determined). \nThe session will be offered on seven dates and times as listed below along with the link. The same information is provided at each session. \nFebruary 5 at 11:00 am: https://relx.zoom.us/j/94892132407 \nFebruary 14 at 11:00 am: https://relx.zoom.us/j/97687583479 \nFebruary 19 at 1:00 am: https://relx.zoom.us/j/99240859319 \nMarch 6 at 12:30 pm: https://relx.zoom.us/j/96159276882 \nMarch 11 at 3PM: https://relx.zoom.us/j/99743126537 \nApril 16 at 10:30AM: https://relx.zoom.us/j/99432325398 \nMay 5 at 12PM: https://relx.zoom.us/j/98014015874
URL:https://lirn.ca/event/lexis-training-6/
LOCATION:Online Only
CATEGORIES:External Event
END:VEVENT
END:VCALENDAR