BEGIN:VCALENDAR
VERSION:2.0
PRODID:-//LiRN - ECPv6.15.20//NONSGML v1.0//EN
CALSCALE:GREGORIAN
METHOD:PUBLISH
X-WR-CALNAME:LiRN
X-ORIGINAL-URL:https://lirn.ca
X-WR-CALDESC:Events for LiRN
REFRESH-INTERVAL;VALUE=DURATION:PT1H
X-Robots-Tag:noindex
X-PUBLISHED-TTL:PT1H
BEGIN:VTIMEZONE
TZID:America/Toronto
BEGIN:DAYLIGHT
TZOFFSETFROM:-0500
TZOFFSETTO:-0400
TZNAME:EDT
DTSTART:20240310T070000
END:DAYLIGHT
BEGIN:STANDARD
TZOFFSETFROM:-0400
TZOFFSETTO:-0500
TZNAME:EST
DTSTART:20241103T060000
END:STANDARD
BEGIN:DAYLIGHT
TZOFFSETFROM:-0500
TZOFFSETTO:-0400
TZNAME:EDT
DTSTART:20250309T070000
END:DAYLIGHT
BEGIN:STANDARD
TZOFFSETFROM:-0400
TZOFFSETTO:-0500
TZNAME:EST
DTSTART:20251102T060000
END:STANDARD
BEGIN:DAYLIGHT
TZOFFSETFROM:-0500
TZOFFSETTO:-0400
TZNAME:EDT
DTSTART:20260308T070000
END:DAYLIGHT
BEGIN:STANDARD
TZOFFSETFROM:-0400
TZOFFSETTO:-0500
TZNAME:EST
DTSTART:20261101T060000
END:STANDARD
END:VTIMEZONE
BEGIN:VEVENT
DTSTART;VALUE=DATE:20250402
DTEND;VALUE=DATE:20250403
DTSTAMP:20260423T222833
CREATED:20250225T185259Z
LAST-MODIFIED:20250225T185259Z
UID:8289-1743552000-1743638399@lirn.ca
SUMMARY:2025 Q2 Grant Payment
DESCRIPTION:
URL:https://lirn.ca/event/2025-q2-grant-payment/
CATEGORIES:Grant
ORGANIZER;CN="LiRN":MAILTO:admin@lirn.ca
END:VEVENT
BEGIN:VEVENT
DTSTART;TZID=America/Toronto:20250402T130000
DTEND;TZID=America/Toronto:20250402T133000
DTSTAMP:20260423T222833
CREATED:20250310T123439Z
LAST-MODIFIED:20250310T123439Z
UID:8387-1743598800-1743600600@lirn.ca
SUMMARY:CriminalSource on Westlaw
DESCRIPTION:Free CPD Training: Earn LSO-Accredited Professionalism Hours! \nUnlock vital criminal practice insights with CriminalSource on Westlaw Canada. This training session will cover: \n• In-depth expert commentary\, including Criminal Pleadings & Practice in Canada by Ewaschuk\, among others. \n• Up-to-the-minute newsletters to keep you informed on crucial criminal law updates. \n• Detailed Criminal Code Annotations from Martin’s\, Tremeer’s\, and Crankshaw’s. \n• Tools to swiftly navigate sentencing options. \n• Efficient strategies to access critical cases and legislation quickly. \nDon’t miss out – elevate your legal expertise! \nRegister at: Microsoft Virtual Events Powered by Teams
URL:https://lirn.ca/event/criminalsource-on-westlaw/
LOCATION:Online Only
CATEGORIES:External Event
END:VEVENT
END:VCALENDAR