BEGIN:VCALENDAR
VERSION:2.0
PRODID:-//LiRN - ECPv6.15.20//NONSGML v1.0//EN
CALSCALE:GREGORIAN
METHOD:PUBLISH
X-ORIGINAL-URL:https://lirn.ca
X-WR-CALDESC:Events for LiRN
REFRESH-INTERVAL;VALUE=DURATION:PT1H
X-Robots-Tag:noindex
X-PUBLISHED-TTL:PT1H
BEGIN:VTIMEZONE
TZID:America/Toronto
BEGIN:DAYLIGHT
TZOFFSETFROM:-0500
TZOFFSETTO:-0400
TZNAME:EDT
DTSTART:20230312T070000
END:DAYLIGHT
BEGIN:STANDARD
TZOFFSETFROM:-0400
TZOFFSETTO:-0500
TZNAME:EST
DTSTART:20231105T060000
END:STANDARD
BEGIN:DAYLIGHT
TZOFFSETFROM:-0500
TZOFFSETTO:-0400
TZNAME:EDT
DTSTART:20240310T070000
END:DAYLIGHT
BEGIN:STANDARD
TZOFFSETFROM:-0400
TZOFFSETTO:-0500
TZNAME:EST
DTSTART:20241103T060000
END:STANDARD
BEGIN:DAYLIGHT
TZOFFSETFROM:-0500
TZOFFSETTO:-0400
TZNAME:EDT
DTSTART:20250309T070000
END:DAYLIGHT
BEGIN:STANDARD
TZOFFSETFROM:-0400
TZOFFSETTO:-0500
TZNAME:EST
DTSTART:20251102T060000
END:STANDARD
END:VTIMEZONE
BEGIN:VEVENT
DTSTART;TZID=America/Toronto:20241205T090000
DTEND;TZID=America/Toronto:20241205T160000
DTSTAMP:20260425T084839
CREATED:20241023T175240Z
LAST-MODIFIED:20241023T175305Z
UID:7286-1733389200-1733414400@lirn.ca
SUMMARY:LSO 13th Human Rights Summit
DESCRIPTION:Description: This annual summit is designed to keep legal professionals current with significant developments in human rights law. Whether you serve as in-house counsel\, a civil litigator\, or a paralegal\, our presenters offer legislative updates and insights into trends in case law that are crucial for you to know. This summit is a year-end update to enhance your practice knowledge \nRegistration: 13th Human Rights Summit | LSO Store \nCPD: 5 h Substantive; 30 m Professionalism; 30 m EDI Professionalism
URL:https://lirn.ca/event/lso-13th-human-rights-summit/
CATEGORIES:LSO CPD
END:VEVENT
BEGIN:VEVENT
DTSTART;TZID=America/Toronto:20241205T123000
DTEND;TZID=America/Toronto:20241205T130000
DTSTAMP:20260425T084839
CREATED:20240822T155140Z
LAST-MODIFIED:20240822T163338Z
UID:6559-1733401800-1733403600@lirn.ca
SUMMARY:Discover Hidden Gems in Westlaw Canada
DESCRIPTION:Description: Take your Westlaw Canada research to the next level with these unique features. \nRegistration: Microsoft Virtual Events Powered by Teams \nCPD Hours: 30 m Professionalism
URL:https://lirn.ca/event/discover-hidden-gems-in-westlaw-canada/
CATEGORIES:External Event,LSO CPD
END:VEVENT
END:VCALENDAR