BEGIN:VCALENDAR
VERSION:2.0
PRODID:-//LiRN - ECPv6.15.20//NONSGML v1.0//EN
CALSCALE:GREGORIAN
METHOD:PUBLISH
X-WR-CALNAME:LiRN
X-ORIGINAL-URL:https://lirn.ca
X-WR-CALDESC:Events for LiRN
REFRESH-INTERVAL;VALUE=DURATION:PT1H
X-Robots-Tag:noindex
X-PUBLISHED-TTL:PT1H
BEGIN:VTIMEZONE
TZID:America/Toronto
BEGIN:DAYLIGHT
TZOFFSETFROM:-0500
TZOFFSETTO:-0400
TZNAME:EDT
DTSTART:20230312T070000
END:DAYLIGHT
BEGIN:STANDARD
TZOFFSETFROM:-0400
TZOFFSETTO:-0500
TZNAME:EST
DTSTART:20231105T060000
END:STANDARD
BEGIN:DAYLIGHT
TZOFFSETFROM:-0500
TZOFFSETTO:-0400
TZNAME:EDT
DTSTART:20240310T070000
END:DAYLIGHT
BEGIN:STANDARD
TZOFFSETFROM:-0400
TZOFFSETTO:-0500
TZNAME:EST
DTSTART:20241103T060000
END:STANDARD
BEGIN:DAYLIGHT
TZOFFSETFROM:-0500
TZOFFSETTO:-0400
TZNAME:EDT
DTSTART:20250309T070000
END:DAYLIGHT
BEGIN:STANDARD
TZOFFSETFROM:-0400
TZOFFSETTO:-0500
TZNAME:EST
DTSTART:20251102T060000
END:STANDARD
END:VTIMEZONE
BEGIN:VEVENT
DTSTART;TZID=America/Toronto:20241202T120000
DTEND;TZID=America/Toronto:20241202T140000
DTSTAMP:20260425T234444
CREATED:20231212T145643Z
LAST-MODIFIED:20231213T152235Z
UID:5060-1733140800-1733148000@lirn.ca
SUMMARY:Board Meeting
DESCRIPTION:
URL:https://lirn.ca/event/board-meeting-5/
CATEGORIES:Board/Committee Meetings
ORGANIZER;CN="LiRN":MAILTO:admin@lirn.ca
END:VEVENT
END:VCALENDAR